BEGIN:VCALENDAR
VERSION:2.0
PRODID:-//Jennifer Batten - ECPv6.15.13//NONSGML v1.0//EN
CALSCALE:GREGORIAN
METHOD:PUBLISH
X-ORIGINAL-URL:https://www.jenniferbatten.com
X-WR-CALDESC:Events for Jennifer Batten
REFRESH-INTERVAL;VALUE=DURATION:PT1H
X-Robots-Tag:noindex
X-PUBLISHED-TTL:PT1H
BEGIN:VTIMEZONE
TZID:America/Los_Angeles
BEGIN:DAYLIGHT
TZOFFSETFROM:-0800
TZOFFSETTO:-0700
TZNAME:PDT
DTSTART:20250309T100000
END:DAYLIGHT
BEGIN:STANDARD
TZOFFSETFROM:-0700
TZOFFSETTO:-0800
TZNAME:PST
DTSTART:20251102T090000
END:STANDARD
BEGIN:DAYLIGHT
TZOFFSETFROM:-0800
TZOFFSETTO:-0700
TZNAME:PDT
DTSTART:20260308T100000
END:DAYLIGHT
BEGIN:STANDARD
TZOFFSETFROM:-0700
TZOFFSETTO:-0800
TZNAME:PST
DTSTART:20261101T090000
END:STANDARD
BEGIN:DAYLIGHT
TZOFFSETFROM:-0800
TZOFFSETTO:-0700
TZNAME:PDT
DTSTART:20270314T100000
END:DAYLIGHT
BEGIN:STANDARD
TZOFFSETFROM:-0700
TZOFFSETTO:-0800
TZNAME:PST
DTSTART:20271107T090000
END:STANDARD
END:VTIMEZONE
BEGIN:VEVENT
DTSTART;TZID=America/Los_Angeles:20260904T210000
DTEND;TZID=America/Los_Angeles:20260904T230000
DTSTAMP:20260421T202601
CREATED:20260127T203824Z
LAST-MODIFIED:20260127T203824Z
UID:7036-1788555600-1788562800@www.jenniferbatten.com
SUMMARY:This Is Michael w Lenny Jay
DESCRIPTION:
URL:https://www.jenniferbatten.com/event/this-is-michael-w-lenny-jay-3/
LOCATION:Teatro Broadway\, San Lorenzo 1223\, Rosario\, ARK\, S2000\, Argentina
END:VEVENT
BEGIN:VEVENT
DTSTART;TZID=America/Los_Angeles:20260905T210000
DTEND;TZID=America/Los_Angeles:20260905T230000
DTSTAMP:20260421T202601
CREATED:20260213T192657Z
LAST-MODIFIED:20260213T192925Z
UID:7048-1788642000-1788649200@www.jenniferbatten.com
SUMMARY:This Is Michael w Lenny Jay
DESCRIPTION:
URL:https://www.jenniferbatten.com/event/this-is-michael-w-lenny-jay-5/
LOCATION:Teatro Gran Rex\, Av. Corrientes 857\,\, Buenos Aires\, Cdad. Autónoma de \,\, C1043AAI\, Argentina
END:VEVENT
BEGIN:VEVENT
DTSTART;TZID=America/Los_Angeles:20260917T210000
DTEND;TZID=America/Los_Angeles:20260917T230000
DTSTAMP:20260421T202601
CREATED:20250108T200648Z
LAST-MODIFIED:20260316T182243Z
UID:6273-1789678800-1789686000@www.jenniferbatten.com
SUMMARY:This Is Michael w Lenny Jay
DESCRIPTION:
URL:https://www.jenniferbatten.com/event/guesting-with-this-is-michael-sept-2026-dates-tba-spain-mexico-s-america/
LOCATION:Private: Arena Monterrey\, Av. Francisco I. Madero 2500\, Centro\,\, Monterrey\, N.L.\, 64010\, Mexico
END:VEVENT
BEGIN:VEVENT
DTSTART;TZID=America/Los_Angeles:20260918T210000
DTEND;TZID=America/Los_Angeles:20260918T230000
DTSTAMP:20260421T202601
CREATED:20260123T005854Z
LAST-MODIFIED:20260316T182302Z
UID:7005-1789765200-1789772400@www.jenniferbatten.com
SUMMARY:This Is Michael w Lenny Jay
DESCRIPTION:
URL:https://www.jenniferbatten.com/event/this-is-michael-w-lenny-jay-2/
LOCATION:Arena CDMX\, Av. de las Granjas 800\,Santa Barbara\, Azcapotzalco\, 02230 \, CDMX\, Ciudad de México\, 02230\, Mexico
END:VEVENT
BEGIN:VEVENT
DTSTART;TZID=America/Los_Angeles:20260919T210000
DTEND;TZID=America/Los_Angeles:20260919T230000
DTSTAMP:20260421T202601
CREATED:20260123T005738Z
LAST-MODIFIED:20260316T182313Z
UID:7001-1789851600-1789858800@www.jenniferbatten.com
SUMMARY:This Is Michael w Lenny Jay
DESCRIPTION:
URL:https://www.jenniferbatten.com/event/this-is-michael-w-lenny-jay/
LOCATION:Private: Arena Guadalajara\, Perif. Nte. Ricardo Flores Magón Ote. 401\, El Verde( Planetario)\,\, Guadalajara\, Jal\, 44395
END:VEVENT
END:VCALENDAR