BEGIN:VCALENDAR
VERSION:2.0
PRODID:-//Jennifer Batten - ECPv6.15.13//NONSGML v1.0//EN
CALSCALE:GREGORIAN
METHOD:PUBLISH
X-WR-CALNAME:Jennifer Batten
X-ORIGINAL-URL:https://www.jenniferbatten.com
X-WR-CALDESC:Events for Jennifer Batten
REFRESH-INTERVAL;VALUE=DURATION:PT1H
X-Robots-Tag:noindex
X-PUBLISHED-TTL:PT1H
BEGIN:VTIMEZONE
TZID:America/Los_Angeles
BEGIN:DAYLIGHT
TZOFFSETFROM:-0800
TZOFFSETTO:-0700
TZNAME:PDT
DTSTART:20250309T100000
END:DAYLIGHT
BEGIN:STANDARD
TZOFFSETFROM:-0700
TZOFFSETTO:-0800
TZNAME:PST
DTSTART:20251102T090000
END:STANDARD
BEGIN:DAYLIGHT
TZOFFSETFROM:-0800
TZOFFSETTO:-0700
TZNAME:PDT
DTSTART:20260308T100000
END:DAYLIGHT
BEGIN:STANDARD
TZOFFSETFROM:-0700
TZOFFSETTO:-0800
TZNAME:PST
DTSTART:20261101T090000
END:STANDARD
BEGIN:DAYLIGHT
TZOFFSETFROM:-0800
TZOFFSETTO:-0700
TZNAME:PDT
DTSTART:20270314T100000
END:DAYLIGHT
BEGIN:STANDARD
TZOFFSETFROM:-0700
TZOFFSETTO:-0800
TZNAME:PST
DTSTART:20271107T090000
END:STANDARD
END:VTIMEZONE
BEGIN:VEVENT
DTSTART;TZID=America/Los_Angeles:20260709T183000
DTEND;TZID=America/Los_Angeles:20260709T203000
DTSTAMP:20260421T163841
CREATED:20260330T102910Z
LAST-MODIFIED:20260330T103607Z
UID:7110-1783621800-1783629000@www.jenniferbatten.com
SUMMARY:JB & Full Steam Summer Series_Hillsboro
DESCRIPTION:
URL:https://www.jenniferbatten.com/event/jb-full-steam-summer-series_hillsboro/
LOCATION:Shute Park\, 750 SE 8th Ave.\,\, Hillsboro\,\, OR\, 97123\, United States
END:VEVENT
BEGIN:VEVENT
DTSTART;TZID=America/Los_Angeles:20260718T210000
DTEND;TZID=America/Los_Angeles:20260718T230000
DTSTAMP:20260421T163841
CREATED:20260325T165807Z
LAST-MODIFIED:20260325T165807Z
UID:7101-1784408400-1784415600@www.jenniferbatten.com
SUMMARY:This Is Michael with Lenny Jay
DESCRIPTION:
URL:https://www.jenniferbatten.com/event/this-is-michael-with-lenny-jay-2/
LOCATION:Guitare En Scene France\, 3 Route des Vignes\, 74160\, Saint-Julien-en-Genevois\, 74160\, France
END:VEVENT
BEGIN:VEVENT
DTSTART;TZID=America/Los_Angeles:20260723T190000
DTEND;TZID=America/Los_Angeles:20260723T190000
DTSTAMP:20260421T163841
CREATED:20260330T103835Z
LAST-MODIFIED:20260330T104854Z
UID:7113-1784833200-1784833200@www.jenniferbatten.com
SUMMARY:JB & Full Steam _Hood River
DESCRIPTION:
URL:https://www.jenniferbatten.com/event/jb-full-steam-_hood-river/
LOCATION:The Ruins Hood River\, 13 Railroad St.\,\, Hood River\, OR\, 97031\, United States
END:VEVENT
BEGIN:VEVENT
DTSTART;TZID=America/Los_Angeles:20260730T183000
DTEND;TZID=America/Los_Angeles:20260730T203000
DTSTAMP:20260421T163841
CREATED:20260325T171323Z
LAST-MODIFIED:20260325T171323Z
UID:7106-1785436200-1785443400@www.jenniferbatten.com
SUMMARY:Jennifer Batten & Full Steam
DESCRIPTION:
URL:https://www.jenniferbatten.com/event/jennifer-batten-full-steam-4/
LOCATION:Town Center City Park\, Town Center City Park\, 29250 SW Parkway Court\, Wilsonville\, OR\, United States
END:VEVENT
END:VCALENDAR