BEGIN:VCALENDAR
VERSION:2.0
PRODID:-//Jennifer Batten - ECPv6.15.13//NONSGML v1.0//EN
CALSCALE:GREGORIAN
METHOD:PUBLISH
X-WR-CALNAME:Jennifer Batten
X-ORIGINAL-URL:https://www.jenniferbatten.com
X-WR-CALDESC:Events for Jennifer Batten
REFRESH-INTERVAL;VALUE=DURATION:PT1H
X-Robots-Tag:noindex
X-PUBLISHED-TTL:PT1H
BEGIN:VTIMEZONE
TZID:America/Los_Angeles
BEGIN:DAYLIGHT
TZOFFSETFROM:-0800
TZOFFSETTO:-0700
TZNAME:PDT
DTSTART:20250309T100000
END:DAYLIGHT
BEGIN:STANDARD
TZOFFSETFROM:-0700
TZOFFSETTO:-0800
TZNAME:PST
DTSTART:20251102T090000
END:STANDARD
BEGIN:DAYLIGHT
TZOFFSETFROM:-0800
TZOFFSETTO:-0700
TZNAME:PDT
DTSTART:20260308T100000
END:DAYLIGHT
BEGIN:STANDARD
TZOFFSETFROM:-0700
TZOFFSETTO:-0800
TZNAME:PST
DTSTART:20261101T090000
END:STANDARD
BEGIN:DAYLIGHT
TZOFFSETFROM:-0800
TZOFFSETTO:-0700
TZNAME:PDT
DTSTART:20270314T100000
END:DAYLIGHT
BEGIN:STANDARD
TZOFFSETFROM:-0700
TZOFFSETTO:-0800
TZNAME:PST
DTSTART:20271107T090000
END:STANDARD
END:VTIMEZONE
BEGIN:VEVENT
DTSTART;TZID=America/Los_Angeles:20260501T200000
DTEND;TZID=America/Los_Angeles:20260501T220000
DTSTAMP:20260421T130853
CREATED:20251125T101214Z
LAST-MODIFIED:20251130T145838Z
UID:6856-1777665600-1777672800@www.jenniferbatten.com
SUMMARY:Legend The Show with Wendel Gama
DESCRIPTION:
URL:https://www.jenniferbatten.com/event/legend-the-show-2/
LOCATION:Congress House Biel\, Zentralstrasse 60\,\, Biel\, 2501\, Switzerland
END:VEVENT
BEGIN:VEVENT
DTSTART;TZID=America/Los_Angeles:20260507T200000
DTEND;TZID=America/Los_Angeles:20260507T230000
DTSTAMP:20260421T130853
CREATED:20251130T143213Z
LAST-MODIFIED:20251130T145922Z
UID:6860-1778184000-1778194800@www.jenniferbatten.com
SUMMARY:Legend The Show with Wendel Gama
DESCRIPTION:
URL:https://www.jenniferbatten.com/event/legend-the-show-3/
LOCATION:Theatre 11\, Thurgauerstrasse 7\,\, Zürich\, 8050\, Switzerland
END:VEVENT
BEGIN:VEVENT
DTSTART;TZID=America/Los_Angeles:20260510T200000
DTEND;TZID=America/Los_Angeles:20260510T230000
DTSTAMP:20260421T130853
CREATED:20251130T143542Z
LAST-MODIFIED:20251130T145946Z
UID:6864-1778443200-1778454000@www.jenniferbatten.com
SUMMARY:Legend The Show with Wendel Gama
DESCRIPTION:
URL:https://www.jenniferbatten.com/event/legend-the-show-4/
LOCATION:Beaulieu Losanna\, Av. Bergières 10\,\, Lausanne\, 1004\, Switzerland
END:VEVENT
BEGIN:VEVENT
DTSTART;TZID=America/Los_Angeles:20260519T210000
DTEND;TZID=America/Los_Angeles:20260519T230000
DTSTAMP:20260421T130853
CREATED:20260316T175718Z
LAST-MODIFIED:20260316T175718Z
UID:7078-1779224400-1779231600@www.jenniferbatten.com
SUMMARY:Legend the Show
DESCRIPTION:
URL:https://www.jenniferbatten.com/event/legend-the-show-5/
LOCATION:Arcimbaldi Theatre Milan\, Viale dell'Innovazione\, 20\,\, Milano MI\, MI\, 20126\, Italy
END:VEVENT
END:VCALENDAR