BEGIN:VCALENDAR
VERSION:2.0
PRODID:-//Jennifer Batten - ECPv6.15.13//NONSGML v1.0//EN
CALSCALE:GREGORIAN
METHOD:PUBLISH
X-WR-CALNAME:Jennifer Batten
X-ORIGINAL-URL:https://www.jenniferbatten.com
X-WR-CALDESC:Events for Jennifer Batten
REFRESH-INTERVAL;VALUE=DURATION:PT1H
X-Robots-Tag:noindex
X-PUBLISHED-TTL:PT1H
BEGIN:VTIMEZONE
TZID:America/Los_Angeles
BEGIN:DAYLIGHT
TZOFFSETFROM:-0800
TZOFFSETTO:-0700
TZNAME:PDT
DTSTART:20210314T100000
END:DAYLIGHT
BEGIN:STANDARD
TZOFFSETFROM:-0700
TZOFFSETTO:-0800
TZNAME:PST
DTSTART:20211107T090000
END:STANDARD
BEGIN:DAYLIGHT
TZOFFSETFROM:-0800
TZOFFSETTO:-0700
TZNAME:PDT
DTSTART:20220313T100000
END:DAYLIGHT
BEGIN:STANDARD
TZOFFSETFROM:-0700
TZOFFSETTO:-0800
TZNAME:PST
DTSTART:20221106T090000
END:STANDARD
BEGIN:DAYLIGHT
TZOFFSETFROM:-0800
TZOFFSETTO:-0700
TZNAME:PDT
DTSTART:20230312T100000
END:DAYLIGHT
BEGIN:STANDARD
TZOFFSETFROM:-0700
TZOFFSETTO:-0800
TZNAME:PST
DTSTART:20231105T090000
END:STANDARD
END:VTIMEZONE
BEGIN:VEVENT
DTSTART;TZID=America/Los_Angeles:20220901T190000
DTEND;TZID=America/Los_Angeles:20220901T210000
DTSTAMP:20260421T191428
CREATED:20220408T013426Z
LAST-MODIFIED:20220829T080218Z
UID:4328-1662058800-1662066000@www.jenniferbatten.com
SUMMARY:Guesting with “This Is Michael” Michael Jackson Tribute Madrid
DESCRIPTION:Guesting with”This Is Michael”Show TICKETS
URL:https://www.jenniferbatten.com/event/this-is-michael-michael-jackson-tribute-madrid/
LOCATION:WizInk Center\, Av. Felipe II\, s/n\,\, Madrid\, 28009\, Spain
END:VEVENT
BEGIN:VEVENT
DTSTART;TZID=America/Los_Angeles:20220827T190000
DTEND;TZID=America/Los_Angeles:20220827T210000
DTSTAMP:20260421T191428
CREATED:20220421T103819Z
LAST-MODIFIED:20220421T103819Z
UID:4392-1661626800-1661634000@www.jenniferbatten.com
SUMMARY:Hagg Lake JB & Full Steam
DESCRIPTION:C ramp recreation area
URL:https://www.jenniferbatten.com/event/hagg-lake-jb-full-steam/
LOCATION:Hagg Lake\, C ramp recreation area 50250 SW Scroggins Valley Rd\, Gaston\, OR\, 97119\, United States
END:VEVENT
BEGIN:VEVENT
DTSTART;TZID=America/Los_Angeles:20220823T170000
DTEND;TZID=America/Los_Angeles:20220823T190000
DTSTAMP:20260421T191428
CREATED:20220324T171018Z
LAST-MODIFIED:20220324T190557Z
UID:4240-1661274000-1661281200@www.jenniferbatten.com
SUMMARY:Jennifer Batten and Full Steam Band "Tunes on Tuesday" series Newberg FREE
DESCRIPTION:Tunes on Tuesday series Newberg \nSongs from Journey\, Toto\, Peter Gabriel\, Van Halen with Pat Yadon\, Ben Jones\, Norm Whitehurst\, Kevin Burkhart\, and Lisa Kent
URL:https://www.jenniferbatten.com/event/jennifer-batten-and-full-steam-2/
LOCATION:Tunes on Tuesday Newberg\, 415 E Sheridan St\,\, Newberg\, OR\, 97132-2725\, United States
END:VEVENT
BEGIN:VEVENT
DTSTART;TZID=America/Los_Angeles:20220820T190000
DTEND;TZID=America/Los_Angeles:20220820T210000
DTSTAMP:20260421T191428
CREATED:20220302T235056Z
LAST-MODIFIED:20220714T195517Z
UID:4156-1661022000-1661029200@www.jenniferbatten.com
SUMMARY:Jennifer Batten and Full Steam Band_Private Party
DESCRIPTION:
URL:https://www.jenniferbatten.com/event/private-wedding/
END:VEVENT
BEGIN:VEVENT
DTSTART;TZID=America/Los_Angeles:20220814T180000
DTEND;TZID=America/Los_Angeles:20220814T200000
DTSTAMP:20260421T191428
CREATED:20220325T184539Z
LAST-MODIFIED:20220325T184622Z
UID:4267-1660500000-1660507200@www.jenniferbatten.com
SUMMARY:JB & Full Steam Band_Mt Hood Center
DESCRIPTION:Songs from Journey\, Toto\, Peter Gabriel\, Van Halen with Pat Yadon\, Ben Jones\, Norm Whitehurst\, Kevin Burkhart\, and Lisa Kent
URL:https://www.jenniferbatten.com/event/jb-full-steam-band_mt-hood-center/
LOCATION:Mt Hood Center\, 29450 SE Lariat Ln\, Boring\, Oregon\, 97009\, United States Minor Outlying Islands
END:VEVENT
BEGIN:VEVENT
DTSTART;TZID=America/Los_Angeles:20220804T183000
DTEND;TZID=America/Los_Angeles:20220804T203000
DTSTAMP:20260421T191428
CREATED:20220302T234846Z
LAST-MODIFIED:20220324T190852Z
UID:4151-1659637800-1659645000@www.jenniferbatten.com
SUMMARY:Jennifer Batten and Full Steam Band_Wilsonville Summer Series_Wilsonville Rotary Club
DESCRIPTION:Songs by Journey\, Peter Gabriel\, Van Halen\, Toto\, Talking Heads\, the Time with Pat Yadon\, Ben Jones\, Norm Whitehurst\, Kevin Burkhart and Lisa Kent
URL:https://www.jenniferbatten.com/event/wilsonville-summer-series/
LOCATION:Town Center City Park\, Town Center City Park\, 29250 SW Parkway Court\, Wilsonville\, OR\, United States
END:VEVENT
BEGIN:VEVENT
DTSTART;TZID=America/Los_Angeles:20220803T180000
DTEND;TZID=America/Los_Angeles:20220803T200000
DTSTAMP:20260421T191428
CREATED:20220125T201736Z
LAST-MODIFIED:20220324T190821Z
UID:4002-1659549600-1659556800@www.jenniferbatten.com
SUMMARY:Jennifer Batten and Full Steam Band_City of Tigard (Summer series) FREE
DESCRIPTION:JB and Full Steam covers
URL:https://www.jenniferbatten.com/event/city-of-tigard-summer-series-free/
LOCATION:Cook Park\, 17005 SW 92nd Ave\,\, Tigard\, OR\, 97224\, United States
END:VEVENT
BEGIN:VEVENT
DTSTART;TZID=America/Los_Angeles:20220730T183000
DTEND;TZID=America/Los_Angeles:20220730T200000
DTSTAMP:20260421T191428
CREATED:20220714T195312Z
LAST-MODIFIED:20220714T195312Z
UID:4512-1659205800-1659211200@www.jenniferbatten.com
SUMMARY:JB playing with Michael Firestone -Michael Jackson Tribute
DESCRIPTION:6:30 I Am King show in Anchorage Alaska 10th annual Backyard Country BBQ \n8:30 Prince Tribute Purple Experience
URL:https://www.jenniferbatten.com/event/jb-playing-with-michael-firestone-michael-jackson-tribute/
LOCATION:Backyard BBQ Anchorage\, Chinook Lot 225 E Street(Kitty corner from Hilton)\,\, Anchorage\, AK\, 99501\, United States
END:VEVENT
BEGIN:VEVENT
DTSTART;TZID=America/Los_Angeles:20220728T180000
DTEND;TZID=America/Los_Angeles:20220728T200000
DTSTAMP:20260421T191428
CREATED:20220125T200920Z
LAST-MODIFIED:20220324T190755Z
UID:3998-1659031200-1659038400@www.jenniferbatten.com
SUMMARY:Jennifer Batten and Full Steam Band_Oregon City (Summer series) FREE
DESCRIPTION:Songs from Journey\, Toto\, Peter Gabriel\, Van Halen with Pat Yadon\, Ben Jones\, Norm Whitehurst\, Kevin Burkhart\, and Lisa Kent
URL:https://www.jenniferbatten.com/event/oregon-city-summer-series-free/
LOCATION:City of Oregon City\, End of the Oregon Trail at 1726 Washington Street\, Oregon City\, OR\, United States
END:VEVENT
BEGIN:VEVENT
DTSTART;TZID=America/Los_Angeles:20220723T193000
DTEND;TZID=America/Los_Angeles:20220723T220000
DTSTAMP:20260421T191428
CREATED:20220421T104126Z
LAST-MODIFIED:20220421T104158Z
UID:4396-1658604600-1658613600@www.jenniferbatten.com
SUMMARY:Brasada Ranch Mens Golf Tournament
DESCRIPTION:Private
URL:https://www.jenniferbatten.com/event/brasada-ranch-mens-golf-tournament/
LOCATION:Brasada Ranch
END:VEVENT
BEGIN:VEVENT
DTSTART;TZID=America/Los_Angeles:20220722T183000
DTEND;TZID=America/Los_Angeles:20220722T203000
DTSTAMP:20260421T191428
CREATED:20220714T193431Z
LAST-MODIFIED:20220714T194342Z
UID:4504-1658514600-1658521800@www.jenniferbatten.com
SUMMARY:Le Happy Creperie -Batten Yadon multimedia show
DESCRIPTION:Promo    \nOriginal tunes plus music by Journey\, Toto\, Peter Gabriel\, Van Halen\, Loverboy\, Bille Eilish\, Tears for Fears\, Adele\, Beatles\, Michael Jackson \n  \nTickets $10 advance / $15 at door
URL:https://www.jenniferbatten.com/event/le-happy-creperie-batten-yadon-multimedia-show/
LOCATION:Le Happy Creperie\, 38687 Proctor Blvd\,\, Sandy\,\, OR\, 97055\, United States
END:VEVENT
BEGIN:VEVENT
DTSTART;TZID=America/Los_Angeles:20220716T200000
DTEND;TZID=America/Los_Angeles:20220716T220000
DTSTAMP:20260421T191428
CREATED:20220328T193337Z
LAST-MODIFIED:20220411T022853Z
UID:4273-1658001600-1658008800@www.jenniferbatten.com
SUMMARY:Solo Multimedia Show_Corkscrew Wine Bar_Portland
DESCRIPTION:Tunes by Billie Eilish\, Peter Gabriel\, Bangles\, Tears for Fears\, Toto\, Adele\, Michael Jackson and originals
URL:https://www.jenniferbatten.com/event/solo-multimedia-show_portland/
LOCATION:Corkscrew Wine Bar\, 1665 SE Bybee Blvd\,\, Portland\, OR\, 97202\, United States
END:VEVENT
BEGIN:VEVENT
DTSTART;TZID=America/Los_Angeles:20220715T190000
DTEND;TZID=America/Los_Angeles:20220715T220000
DTSTAMP:20260421T191428
CREATED:20220303T001102Z
LAST-MODIFIED:20220714T193950Z
UID:4177-1657911600-1657922400@www.jenniferbatten.com
SUMMARY:Jennifer Batten and Full Steam Band_ Bargeway Pub The Dalles (United Way benefit)
DESCRIPTION:Songs from Journey\, Toto\, Peter Gabriel\, Van Halen with Pat Yadon\, Ben Jones\, Norm Whitehurst\, Kevin Burkhart\, and Lisa Kent \nDoors 6:00pm – :30 DJ Tunes 6:30pm – Victor Johnson :45-:60 acoustic set 7:30pm – :30 Live Auction 7:30pm – \n8:00pm – JB&Full Steam :60 min set \n9:00pm – :30 DJ Dance Tunes \n9:30pm – JB&Full Steam :final 60 min set
URL:https://www.jenniferbatten.com/event/jbfull-steam-band_-bargeway-pub-the-dalles/
LOCATION:The Bargeway Pub\, 1535 Bargeway Rd\,\, The Dalles\, OR\, United States
END:VEVENT
BEGIN:VEVENT
DTSTART;TZID=America/Los_Angeles:20220709T210000
DTEND;TZID=America/Los_Angeles:20220710T000000
DTSTAMP:20260421T191428
CREATED:20220302T234457Z
LAST-MODIFIED:20220620T191818Z
UID:4145-1657400400-1657411200@www.jenniferbatten.com
SUMMARY:Jennifer Batten and Full Steam Band_Sandy Mountain Festival (FREE)
DESCRIPTION:Songs from Journey\, Toto\, Peter Gabriel\, Van Halen with Pat Yadon\, Ben Jones\, Ron Tuttle\, Kevin Burkhart\, Lisa Kent
URL:https://www.jenniferbatten.com/event/sandy-mountain-festival/
LOCATION:Sandy Centennial Plaza\, 17499 Hoffman Ave\, Sandy\, OR\, 97055\, United States
END:VEVENT
BEGIN:VEVENT
DTSTART;TZID=America/Los_Angeles:20220704T130000
DTEND;TZID=America/Los_Angeles:20220704T160000
DTSTAMP:20260421T191428
CREATED:20220421T101100Z
LAST-MODIFIED:20220421T101100Z
UID:4389-1656939600-1656950400@www.jenniferbatten.com
SUMMARY:Tumwater Vinyards JB and Full Steam
DESCRIPTION:
URL:https://www.jenniferbatten.com/event/tumwater-vinyards-jb-and-full-steam/
END:VEVENT
BEGIN:VEVENT
DTSTART;TZID=America/Los_Angeles:20220702T190000
DTEND;TZID=America/Los_Angeles:20220702T220000
DTSTAMP:20260421T191428
CREATED:20211222T194025Z
LAST-MODIFIED:20220408T014650Z
UID:3914-1656788400-1656799200@www.jenniferbatten.com
SUMMARY:Guesting w Brazilian "King of Pop" Michael Jackson Tribute LA
DESCRIPTION:Guesting with show
URL:https://www.jenniferbatten.com/event/guesting-w-brazilian-king-of-pop-michael-jackson-tribute-la/
LOCATION:Wiltern Theatre\, 3790 Wilshire Blvd\,\, Los Angeles\, California\, 90010
END:VEVENT
BEGIN:VEVENT
DTSTART;TZID=America/Los_Angeles:20220630T080000
DTEND;TZID=America/Los_Angeles:20220630T170000
DTSTAMP:20260421T191428
CREATED:20220324T163433Z
LAST-MODIFIED:20220408T014415Z
UID:4233-1656576000-1656608400@www.jenniferbatten.com
SUMMARY:Guesting with Brazilian "King of Pop" Michael Jackson Tribute Orlando
DESCRIPTION:Guesting-with-show
URL:https://www.jenniferbatten.com/event/guesting-with-brazilian-king-of-pop-michael-jackson-tribute-orlando/
LOCATION:House of Blues\, 1490 E Buena Vista Dr\, Orlando\, FL 32830\, Orlando\, FL\, 32830\, United States
END:VEVENT
BEGIN:VEVENT
DTSTART;TZID=America/Los_Angeles:20220625T190000
DTEND;TZID=America/Los_Angeles:20220625T220000
DTSTAMP:20260421T191428
CREATED:20211222T193802Z
LAST-MODIFIED:20220408T014314Z
UID:3909-1656183600-1656194400@www.jenniferbatten.com
SUMMARY:Guesting w Brazilian "King of Pop" Michael Jackson Tribute NYC
DESCRIPTION:Guesting-with-show
URL:https://www.jenniferbatten.com/event/guesting-w-brazilian-king-of-pop-michael-jackson-tribute/
LOCATION:Palladium Theatre\, 1515 Broadway\,\, New York\, NY\, 10036\, United States
END:VEVENT
BEGIN:VEVENT
DTSTART;TZID=America/Los_Angeles:20220612T190000
DTEND;TZID=America/Los_Angeles:20220612T220000
DTSTAMP:20260421T191428
CREATED:20220428T115214Z
LAST-MODIFIED:20220610T020422Z
UID:4432-1655060400-1655071200@www.jenniferbatten.com
SUMMARY:Coliseo La Concordia_ Veracruz with "Legacy" Show POSTPONED TO SEPTEMBER
DESCRIPTION:Guesting with “Legacy” Michael Jackson Tribute show with Don Boyette and LaVelle Smith
URL:https://www.jenniferbatten.com/event/coliseo-la-concordia_-veracruz-with-legacy-show/
LOCATION:Coliseo La Concordia\, Colón Ote. 2025\, Centro\,\, Orizaba\, Ver.\,\, Orizaba\, Ver.\,\, 94345\, Mexico
END:VEVENT
BEGIN:VEVENT
DTSTART;TZID=America/Los_Angeles:20220611T190000
DTEND;TZID=America/Los_Angeles:20220611T220000
DTSTAMP:20260421T191428
CREATED:20220428T114721Z
LAST-MODIFIED:20220513T150718Z
UID:4427-1654974000-1654984800@www.jenniferbatten.com
SUMMARY:Auditorio Metropolitano_Puebla Mexico with "Legacy" Show
DESCRIPTION:Guesting with “Legacy” Michael Jackson Jackson tribute show with LaVelle Smith
URL:https://www.jenniferbatten.com/event/auditorio-metropolitano_puebla-mexico/
LOCATION:Auditorio Metropolitano\, Calle Sirio\, Osa Mayor\, Atlixcáyotl\,\, Puebla\, Pue\, 73700\, Mexico
END:VEVENT
BEGIN:VEVENT
DTSTART;TZID=America/Los_Angeles:20220603T210000
DTEND;TZID=America/Los_Angeles:20220604T000000
DTSTAMP:20260421T191428
CREATED:20220302T232635Z
LAST-MODIFIED:20220324T190945Z
UID:4139-1654290000-1654300800@www.jenniferbatten.com
SUMMARY:Jennifer Batten and Full Steam Band_Ponderosa
DESCRIPTION:Songs from Journey\, Toto\, Peter Gabriel\, Van Halen with Pat Yadon\, Ben Jones\, Norm Whitehurst\, Kevin Burkhart\, Lisa Kent
URL:https://www.jenniferbatten.com/event/jennifer-batten-and-full-steam/
LOCATION:Ponderosa Bar & Grill\, 10350 N Vancouver Way\, Portland\, OR\, 97217\, United States
END:VEVENT
BEGIN:VEVENT
DTSTART;TZID=America/Los_Angeles:20220527T080000
DTEND;TZID=America/Los_Angeles:20220527T170000
DTSTAMP:20260421T191428
CREATED:20220302T232503Z
LAST-MODIFIED:20220324T191025Z
UID:4135-1653638400-1653670800@www.jenniferbatten.com
SUMMARY:Jennifer Batten and Full Steam Band at Billy Blues
DESCRIPTION:Songs from Journey\, Toto\, Peter Gabriel\, Van Halen with Pat Yadon\, Ben Jones\, Norm Whitehurst\, Kevin Burkhart\, and Lisa Kent
URL:https://www.jenniferbatten.com/event/jennifer-batten-and-full-steam-at-the-ponderosa/
LOCATION:Billy Blues Bar & Grill\, 7115 NE Hazel Dell Avenue\, Vancouver\, WA\, 98665\, United States
END:VEVENT
BEGIN:VEVENT
DTSTART;TZID=America/Los_Angeles:20220520T190000
DTEND;TZID=America/Los_Angeles:20220604T190000
DTSTAMP:20260421T191428
CREATED:20220210T223216Z
LAST-MODIFIED:20220305T215210Z
UID:4090-1653073200-1654369200@www.jenniferbatten.com
SUMMARY:Russian Tour + Kremlin Palace CANCELLED
DESCRIPTION:
URL:https://www.jenniferbatten.com/event/russian-tour-kremlin-palace/
END:VEVENT
BEGIN:VEVENT
DTSTART;TZID=America/Los_Angeles:20220511T190000
DTEND;TZID=America/Los_Angeles:20220511T220000
DTSTAMP:20260421T191428
CREATED:20220210T222543Z
LAST-MODIFIED:20220408T022227Z
UID:4085-1652295600-1652306400@www.jenniferbatten.com
SUMMARY:Guesting with Navi King of Pop Michael Jackson Tribute_Aberdeen
DESCRIPTION:Guesting w Navi “King of Pop”
URL:https://www.jenniferbatten.com/event/guesting-with-navi-king-of-pop-michael-jackson-tribute-2/
LOCATION:Tivoli Theatre Aberdeen\, 34-48 Guild St\, Aberdeen\, AB11 6NB
END:VEVENT
BEGIN:VEVENT
DTSTART;TZID=America/Los_Angeles:20220510T190000
DTEND;TZID=America/Los_Angeles:20220510T210000
DTSTAMP:20260421T191428
CREATED:20220412T184959Z
LAST-MODIFIED:20220412T184959Z
UID:4375-1652209200-1652216400@www.jenniferbatten.com
SUMMARY:Guesting with Navi "King of Pop" Michael Jackson Tribute_Glasgow
DESCRIPTION:
URL:https://www.jenniferbatten.com/event/guesting-with-navi-king-of-pop-michael-jackson-tribute_glasgow/
LOCATION:Royal Concert Hall\, 2 Sauchiehall Street\, Glasgow\, G2 3NY\, United Kingdom
END:VEVENT
BEGIN:VEVENT
DTSTART;TZID=America/Los_Angeles:20220507T200000
DTEND;TZID=America/Los_Angeles:20220507T230000
DTSTAMP:20260421T191428
CREATED:20220428T150203Z
LAST-MODIFIED:20220428T150203Z
UID:4442-1651953600-1651964400@www.jenniferbatten.com
SUMMARY:The Michael Jackson Story - Nantes France May 7
DESCRIPTION:Discover the Michael Jackson Story World Tour\, a concept created by Stephan DeReine and Philippe Rosato under the leadership of the GRA Music Group SAS label. \n\n\n  \nThis is a Tribute concert from the King of Pop accompanied by legendary Michael guitarist Jennifer Batten\, Stephan DeReine (Ariana Grande) on keyboards and Kevin Walker (Justin Timberlake) on bass. Unpublished in France. All the greatest titles of the King in concert\, with a look-alike who dances and sings like him and his troupe of dancers. \nNot to be missed! \nA portion of the proceeds from the concert will be donated to the Le Refuge Foundation.
URL:https://www.jenniferbatten.com/event/the-michael-jackson-story-nantes-france-may-7/
LOCATION:Pornic Casino France\, 30 CANAL STREET THE RIA\, Pornic\, Pornic\, 44210\, France
END:VEVENT
BEGIN:VEVENT
DTSTART;TZID=America/Los_Angeles:20220506T203000
DTEND;TZID=America/Los_Angeles:20220506T230000
DTSTAMP:20260421T191428
CREATED:20220210T230413Z
LAST-MODIFIED:20220428T150039Z
UID:4094-1651869000-1651878000@www.jenniferbatten.com
SUMMARY:The Michael Jackson Story - Nantes France May 6
DESCRIPTION:Discover the Michael Jackson Story World Tour\, a concept created by Stephan DeReine and Philippe Rosato under the leadership of the GRA Music Group SAS label. \n\n\n  \nThis is a Tribute concert from the King of Pop accompanied by legendary Michael guitarist Jennifer Batten\, Stephan DeReine (Ariana Grande) on keyboards and Kevin Walker (Justin Timberlake) on bass. Unpublished in France. All the greatest titles of the King in concert\, with a look-alike who dances and sings like him and his troupe of dancers. \nNot to be missed! \nA portion of the proceeds from the concert will be donated to the Le Refuge Foundation.
URL:https://www.jenniferbatten.com/event/the-michael-jackson-story-paris-may-6-7/
LOCATION:Pornic Casino France\, 30 CANAL STREET THE RIA\, Pornic\, Pornic\, 44210\, France
END:VEVENT
BEGIN:VEVENT
DTSTART;TZID=America/Los_Angeles:20220501T190000
DTEND;TZID=America/Los_Angeles:20220501T220000
DTSTAMP:20260421T191428
CREATED:20211222T192705Z
LAST-MODIFIED:20220408T020708Z
UID:3887-1651431600-1651442400@www.jenniferbatten.com
SUMMARY:Guesting w Navi "King of Pop" Michael Jackson Tribute_Hunstanton
DESCRIPTION:Guesting w Navi “King of Pop”
URL:https://www.jenniferbatten.com/event/guesting-w-navi-king-of-pop-michael-jackson-tribute-uk-5/
LOCATION:Hunstanton
END:VEVENT
BEGIN:VEVENT
DTSTART;TZID=America/Los_Angeles:20220429T080000
DTEND;TZID=America/Los_Angeles:20220429T170000
DTSTAMP:20260421T191428
CREATED:20211222T192430Z
LAST-MODIFIED:20220408T022515Z
UID:3878-1651219200-1651251600@www.jenniferbatten.com
SUMMARY:Guesting w Navi "King of Pop" Michael Jackson Tribute UK_Colne
DESCRIPTION:Guesting with King of Pop show
URL:https://www.jenniferbatten.com/event/guesting-w-navi-king-of-pop-michael-jackson-tribute-uk-3/
LOCATION:Muni  Theatre Colne\, Albert Road\,\, Colne\,\, Lancashire\, BB8 0AE\, United Kingdom
END:VEVENT
BEGIN:VEVENT
DTSTART;TZID=America/Los_Angeles:20220425T190000
DTEND;TZID=America/Los_Angeles:20220425T210000
DTSTAMP:20260421T191428
CREATED:20220210T220826Z
LAST-MODIFIED:20220408T022354Z
UID:4072-1650913200-1650920400@www.jenniferbatten.com
SUMMARY:Guesting with Navi-King of Pop Michael Jackson Tribute_Lincoln
DESCRIPTION:Guesting with King of Pop show
URL:https://www.jenniferbatten.com/event/guesting-with-navi-king-of-pop-michael-jackson-tribute-3/
LOCATION:Theatre Royal- Lincoln\, CLASKETGATE LINCOLN\, Lincoln\, LN2 1JJ\, United Kingdom
END:VEVENT
END:VCALENDAR