BEGIN:VCALENDAR
VERSION:2.0
PRODID:-//Jennifer Batten - ECPv6.15.13//NONSGML v1.0//EN
CALSCALE:GREGORIAN
METHOD:PUBLISH
X-WR-CALNAME:Jennifer Batten
X-ORIGINAL-URL:https://www.jenniferbatten.com
X-WR-CALDESC:Events for Jennifer Batten
REFRESH-INTERVAL;VALUE=DURATION:PT1H
X-Robots-Tag:noindex
X-PUBLISHED-TTL:PT1H
BEGIN:VTIMEZONE
TZID:America/Los_Angeles
BEGIN:DAYLIGHT
TZOFFSETFROM:-0800
TZOFFSETTO:-0700
TZNAME:PDT
DTSTART:20220313T100000
END:DAYLIGHT
BEGIN:STANDARD
TZOFFSETFROM:-0700
TZOFFSETTO:-0800
TZNAME:PST
DTSTART:20221106T090000
END:STANDARD
BEGIN:DAYLIGHT
TZOFFSETFROM:-0800
TZOFFSETTO:-0700
TZNAME:PDT
DTSTART:20230312T100000
END:DAYLIGHT
BEGIN:STANDARD
TZOFFSETFROM:-0700
TZOFFSETTO:-0800
TZNAME:PST
DTSTART:20231105T090000
END:STANDARD
BEGIN:DAYLIGHT
TZOFFSETFROM:-0800
TZOFFSETTO:-0700
TZNAME:PDT
DTSTART:20240310T100000
END:DAYLIGHT
BEGIN:STANDARD
TZOFFSETFROM:-0700
TZOFFSETTO:-0800
TZNAME:PST
DTSTART:20241103T090000
END:STANDARD
BEGIN:DAYLIGHT
TZOFFSETFROM:-0800
TZOFFSETTO:-0700
TZNAME:PDT
DTSTART:20250309T100000
END:DAYLIGHT
BEGIN:STANDARD
TZOFFSETFROM:-0700
TZOFFSETTO:-0800
TZNAME:PST
DTSTART:20251102T090000
END:STANDARD
END:VTIMEZONE
BEGIN:VEVENT
DTSTART;TZID=America/Los_Angeles:20240406T190000
DTEND;TZID=America/Los_Angeles:20240406T210000
DTSTAMP:20260421T191105
CREATED:20231105T200053Z
LAST-MODIFIED:20231105T200053Z
UID:5380-1712430000-1712437200@www.jenniferbatten.com
SUMMARY:Guesting with King of Pop show_Bilston
DESCRIPTION:
URL:https://www.jenniferbatten.com/event/guesting-with-king-of-pop-show_bilston/
LOCATION:The Robin\, 26-28 Mount Pleasant\, Bilston\, Wolverhampton\,\, Bilston\, WV14 7LJ\, United Kingdom
END:VEVENT
BEGIN:VEVENT
DTSTART;TZID=America/Los_Angeles:20240405T190000
DTEND;TZID=America/Los_Angeles:20240405T213000
DTSTAMP:20260421T191105
CREATED:20230807T160321Z
LAST-MODIFIED:20231105T195932Z
UID:5155-1712343600-1712352600@www.jenniferbatten.com
SUMMARY:Guesting w King of Pop Tribute with Navi_Swindon
DESCRIPTION:
URL:https://www.jenniferbatten.com/event/guesting-w-king-of-pop-tribute-with-navi-13/
LOCATION:Wyvern Theatre\, Theatre Square\, Swindon\, Swindon\, SN1 1QN\, United Kingdom
END:VEVENT
BEGIN:VEVENT
DTSTART;TZID=America/Los_Angeles:20240404T190000
DTEND;TZID=America/Los_Angeles:20240404T210000
DTSTAMP:20260421T191105
CREATED:20231105T195821Z
LAST-MODIFIED:20231105T195821Z
UID:5373-1712257200-1712264400@www.jenniferbatten.com
SUMMARY:Guesting with King of Pop show_Burnley
DESCRIPTION:
URL:https://www.jenniferbatten.com/event/guesting-with-king-of-pop-show_burnley/
LOCATION:Mechanics Theatre\, Manchester Rd\, Burnley\, BB11 1BH\, United Kingdom
END:VEVENT
BEGIN:VEVENT
DTSTART;TZID=America/Los_Angeles:20240403T190000
DTEND;TZID=America/Los_Angeles:20240403T210000
DTSTAMP:20260421T191105
CREATED:20231105T194607Z
LAST-MODIFIED:20231105T195842Z
UID:5369-1712170800-1712178000@www.jenniferbatten.com
SUMMARY:Guesting with King of Pop show_New Brighton
DESCRIPTION:
URL:https://www.jenniferbatten.com/event/guesting-with-king-of-pop-show/
LOCATION:Floral Pavillion New Brighton\, Marine Promenade\,\, New Brighton\,\, Wallasey\, CH45 2JS\, United Kingdom
END:VEVENT
BEGIN:VEVENT
DTSTART;TZID=America/Los_Angeles:20240402T190000
DTEND;TZID=America/Los_Angeles:20240402T210000
DTSTAMP:20260421T191105
CREATED:20231105T194312Z
LAST-MODIFIED:20231105T194312Z
UID:5366-1712084400-1712091600@www.jenniferbatten.com
SUMMARY:Guesting with King of Pop show Ayr Scotland
DESCRIPTION:
URL:https://www.jenniferbatten.com/event/guesting-with-king-of-pop-show-ayr-scotland/
LOCATION:Gaiety Theatre\, Carrick St\,\, Ayr\, KA7 1NU\, United Kingdom
END:VEVENT
BEGIN:VEVENT
DTSTART;TZID=America/Los_Angeles:20240314T190000
DTEND;TZID=America/Los_Angeles:20240314T223000
DTSTAMP:20260421T191105
CREATED:20240212T232855Z
LAST-MODIFIED:20240212T232855Z
UID:5606-1710442800-1710455400@www.jenniferbatten.com
SUMMARY:Rare solo multimedia show in Butte Montana! Covellite Theatre + After Party!
DESCRIPTION:Expect a huge array of sonic tapestry and visuals. Original tunes and covers from Adelle\, Peter Gabriel\, Jeff Beck\, Michael Jackson and more!  Doors 6pm Show 7 with a set by the talented Ken Rich $20 in advance $25 at the door \nOfficial AfterParty at 51 Below Speakeasy  (inside the Miner’s Hotel\, 51 W Park St.)
URL:https://www.jenniferbatten.com/event/rare-solo-multimedia-show-in-butte-montana-covellite-theatre-after-party/
LOCATION:Covellite Theatre and Uptown Lounge\, 215 W Broadway St\,\, Butte\, MT\, 59701\, United States
END:VEVENT
BEGIN:VEVENT
DTSTART;TZID=America/Los_Angeles:20231231T210000
DTEND;TZID=America/Los_Angeles:20240101T000000
DTSTAMP:20260421T191105
CREATED:20231105T194130Z
LAST-MODIFIED:20231105T194130Z
UID:5362-1704056400-1704067200@www.jenniferbatten.com
SUMMARY:JB and Full Steam in Tacoma NYE at McMenamins Spanish Ballroom
DESCRIPTION:80’s dance music with Donna McVay pat Yadon Jim Beatly Kevin Burkhart Norm Whitehurst
URL:https://www.jenniferbatten.com/event/jb-and-full-steam-in-tacoma-nye-at-mcmenamins-spanish-ballroom/
LOCATION:McMenamins Spanish Ballroom\, 565 Broadway\, Tacoma\, WA\, United States
END:VEVENT
BEGIN:VEVENT
DTSTART;TZID=America/Los_Angeles:20231221T080000
DTEND;TZID=America/Los_Angeles:20231221T170000
DTSTAMP:20260421T191105
CREATED:20231214T232657Z
LAST-MODIFIED:20231214T232657Z
UID:5501-1703145600-1703178000@www.jenniferbatten.com
SUMMARY:"Michael The Show" Gorizia Italy with Live Orchestra
DESCRIPTION:
URL:https://www.jenniferbatten.com/event/michael-the-show-gorizia-italy-with-live-orchestra/
LOCATION:Teatro Verdi Di Gorizia\, Via Giuseppe Garibaldi\, 2A\,\, Gorizia GO\, 34170\, Italy
END:VEVENT
BEGIN:VEVENT
DTSTART;TZID=America/Los_Angeles:20231217T220000
DTEND;TZID=America/Los_Angeles:20231218T000000
DTSTAMP:20260421T191105
CREATED:20230821T043523Z
LAST-MODIFIED:20231214T233228Z
UID:5199-1702850400-1702857600@www.jenniferbatten.com
SUMMARY:"This Is Michael" Michael Jackson Tribute show (JB guesting) Buenos Aires
DESCRIPTION:Michael Jackson Tribute
URL:https://www.jenniferbatten.com/event/this-is-michael-with-lenny-jay/
LOCATION:Estadio Luna Park\, Av. Eduardo Madero 470\, C1106 CABA\, Buenos Aires\, C1106 CABA\, Argentina
END:VEVENT
BEGIN:VEVENT
DTSTART;TZID=America/Los_Angeles:20231215T210000
DTEND;TZID=America/Los_Angeles:20231215T233000
DTSTAMP:20260421T191105
CREATED:20230909T105028Z
LAST-MODIFIED:20231214T233423Z
UID:5211-1702674000-1702683000@www.jenniferbatten.com
SUMMARY:"This Is Michael" Michael Jackson Tribute show (JB guesting) Mendoza
DESCRIPTION:With Lenny Jay
URL:https://www.jenniferbatten.com/event/this-is-michael-michael-jackson-tribute-show-guesting-mendoza/
LOCATION:Auditorium Angel Bustelo\, Virgen del Carmen de Cuyo 610\, Mendoza\, M5500\, Argentina
END:VEVENT
BEGIN:VEVENT
DTSTART;TZID=America/Los_Angeles:20231207T120000
DTEND;TZID=America/Los_Angeles:20231207T150000
DTSTAMP:20260421T191105
CREATED:20230922T094232Z
LAST-MODIFIED:20231105T193004Z
UID:5217-1701950400-1701961200@www.jenniferbatten.com
SUMMARY:Masterclass at Mesa Communty College Phoenix
DESCRIPTION:Free clinic 3pm  + ticketed concert 7pm
URL:https://www.jenniferbatten.com/event/masterclass-at-mesa-communty-college-phoenix/
LOCATION:Mesa Communty College\, 1833 W Southern Ave\,\, Mesa\, AZ\, 85202\, United States
END:VEVENT
BEGIN:VEVENT
DTSTART;TZID=America/Los_Angeles:20231125T210000
DTEND;TZID=America/Los_Angeles:20231126T000000
DTSTAMP:20260421T191105
CREATED:20231105T193206Z
LAST-MODIFIED:20231105T193206Z
UID:5359-1700946000-1700956800@www.jenniferbatten.com
SUMMARY:JB and Full Steam at The Ponderosa
DESCRIPTION:80’s dance music w special surprise guest
URL:https://www.jenniferbatten.com/event/jb-and-full-steam-at-the-ponderosa/
LOCATION:The Ponderosa\, 10350 N Vancouver Way\,\, Portland\, OR\, 97217\, United States
END:VEVENT
BEGIN:VEVENT
DTSTART;TZID=America/Los_Angeles:20231113T200000
DTEND;TZID=America/Los_Angeles:20231113T220000
DTSTAMP:20260421T191105
CREATED:20231014T192920Z
LAST-MODIFIED:20231028T024044Z
UID:5283-1699905600-1699912800@www.jenniferbatten.com
SUMMARY:GFest Tour Romaphonic Studio Masterclass Buenos Aires POSTPONED TBA
DESCRIPTION:Guitar Masterclass
URL:https://www.jenniferbatten.com/event/romaphonic-studio-masterclass-buenos-aires/
LOCATION:Romaphonic Studio\, Sanabria 2576\, C1417 CABA\, Buenos Aires\, C1417\, Argentina
END:VEVENT
BEGIN:VEVENT
DTSTART;TZID=America/Los_Angeles:20231111T200000
DTEND;TZID=America/Los_Angeles:20231111T230000
DTSTAMP:20260421T191105
CREATED:20231014T192432Z
LAST-MODIFIED:20231028T023957Z
UID:5279-1699732800-1699743600@www.jenniferbatten.com
SUMMARY:GFest Tour_Teatro Florencio Sanchez\, Paysandú Uruguay POSTPONED TBA
DESCRIPTION:Masterclass and solo multimedia concert with Filipe Collarte
URL:https://www.jenniferbatten.com/event/gfest-tour-south-america_teatro-florencio-sanchez-paysandu/
LOCATION:Teatro Florencio Sánchez\, MWJ8+WCF\, 19 De Abril\, Paysandú\, Departamento de Paysandú\, 60000\, Uruguay
END:VEVENT
BEGIN:VEVENT
DTSTART;TZID=America/Los_Angeles:20231109T210000
DTEND;TZID=America/Los_Angeles:20231109T230000
DTSTAMP:20260421T191105
CREATED:20230928T221210Z
LAST-MODIFIED:20231028T023838Z
UID:5257-1699563600-1699570800@www.jenniferbatten.com
SUMMARY:GFest_Tour_ "Live Era" Montevideo Uruguay POSTPONED TBA
DESCRIPTION:with Filipe Collarte. Film show plus band finale
URL:https://www.jenniferbatten.com/event/gfest_tour-south-america_solo-multimedia-show-montevideo/
LOCATION:Live Era\, Uruguay 960\, 11200 Montevideo\, Departamento de Montevideo\, Montevideo\, 11200\, Uruguay
END:VEVENT
BEGIN:VEVENT
DTSTART;TZID=America/Los_Angeles:20231107T180000
DTEND;TZID=America/Los_Angeles:20231107T200000
DTSTAMP:20260421T191105
CREATED:20231014T190357Z
LAST-MODIFIED:20231028T023810Z
UID:5268-1699380000-1699387200@www.jenniferbatten.com
SUMMARY:GFest Tour Master class Conservatorio Sur\, Montevideo\, Uruguay POSTPONED TBA
DESCRIPTION:Guitar Master class \n  \n 
URL:https://www.jenniferbatten.com/event/master-class-conservatorio-sur-montevideo-uruguay/
LOCATION:Conservatorio Montevideo\, José Enrique Rodó 2074\, Montevideo\, 11200\, Uruguay
END:VEVENT
BEGIN:VEVENT
DTSTART;TZID=America/Los_Angeles:20231106T183000
DTEND;TZID=America/Los_Angeles:20231106T210000
DTSTAMP:20260421T191105
CREATED:20231014T195548Z
LAST-MODIFIED:20231028T023746Z
UID:5303-1699295400-1699304400@www.jenniferbatten.com
SUMMARY:GFest Tour Canelones / Espacio Dínamo POSTPONED TBA
DESCRIPTION:Solo multimedia show and band finale / with Filipe Collarte
URL:https://www.jenniferbatten.com/event/gfest-tour-canelones-espacio-dinamo/
LOCATION:Espacio Dínamo\, 66MH+652\, Km 45 Ruta Interbalnearia\, Atlántida\, Departamento de Canelones\, 15200\, Uruguay
END:VEVENT
BEGIN:VEVENT
DTSTART;TZID=America/Los_Angeles:20231104T200000
DTEND;TZID=America/Los_Angeles:20231104T223000
DTSTAMP:20260421T191105
CREATED:20231014T194250Z
LAST-MODIFIED:20231028T023716Z
UID:5297-1699128000-1699137000@www.jenniferbatten.com
SUMMARY:GFest tour Parque Pan de Azúcar\, Uruguay POSTPONED TBA
DESCRIPTION:Solo multimedia show and band finale Sugar Mountain \nwith Filipe Collarte
URL:https://www.jenniferbatten.com/event/gfest-tour-parque-pan-de-azucar/
LOCATION:Parque Pan de Azúcar\, 6Q99+2QF\, 20300 Pan de Azúcar\, Departamento de Maldonado\, 20300\, Uruguay
END:VEVENT
BEGIN:VEVENT
DTSTART;TZID=America/Los_Angeles:20231012T110000
DTEND;TZID=America/Los_Angeles:20231015T170000
DTSTAMP:20260421T191105
CREATED:20230922T095838Z
LAST-MODIFIED:20230928T171318Z
UID:5221-1697108400-1697389200@www.jenniferbatten.com
SUMMARY:Moon Weekend Michael Jackson Convention Madrid
DESCRIPTION:Tickets are now available for #JenniferBatten’s seminar during #MOONWeekend2023.\n\n\nOption of general admission or special admission\, with early access\, meet and greet with Jennifer\, photo and autograph.\nFriday Concert will take place at Bosco guitar shop/restaurant (Calle Fernández de la Hoz 78; 28003\, Madrid)-Meet and Greet (9pm) Concert 10:30\nSaturday Fan Seminar 9am meet and greet Seminar 11-2 Colegio Mayor Alcalá: Calle Don Ramón Menéndez Pidal\, 2; 28040\, Madrid (3 hours in which we’ll dive into what her world touring years with Michael Jackson have been like: anecdotes\, trivia\, unforgettable memories… What would you like to ask her?)
URL:https://www.jenniferbatten.com/event/moon-weekend-michael-jackson-convention-madrid/
LOCATION:Colegio Mayor Alcatà\, C. de Don Ramón Menéndez Pidal\, 2\,\, Madrid\, 28040\, Spain
END:VEVENT
BEGIN:VEVENT
DTSTART;TZID=America/Los_Angeles:20231008T160000
DTEND;TZID=America/Los_Angeles:20231008T190000
DTSTAMP:20260421T191105
CREATED:20230821T041937Z
LAST-MODIFIED:20230821T042700Z
UID:5194-1696780800-1696791600@www.jenniferbatten.com
SUMMARY:Making HISTory With MJ - Michael Jackson Fan event
DESCRIPTION:Call for exact times Jennifer will be there on the 8th. Event begins on the 7th \nWe are thrilled to announce “Making HIStory With MJ” at Dierks Studios\, Cologne\, Germany\, on Oct 7-8\, 2023. Join Michael Jackson’s collaborators Brad Buxer\, Michael Prince\, plus a special guest on Sunday\, the talented guitarist Jennifer Batten. Experience unforgettable stories about the King of Pop! Book your spot now for this historic event.
URL:https://www.jenniferbatten.com/event/making-history-with-mj-michael-jackson-fan-event/
LOCATION:Dierks Studios\, Cologne\, Germany\, Hauptstraße 33\, 50259 Pulheim\, Cologne\, Germany
END:VEVENT
BEGIN:VEVENT
DTSTART;TZID=America/Los_Angeles:20231007T213000
DTEND;TZID=America/Los_Angeles:20231007T213000
DTSTAMP:20260421T191105
CREATED:20230713T161801Z
LAST-MODIFIED:20230713T162050Z
UID:5139-1696714200-1696714200@www.jenniferbatten.com
SUMMARY:Guesting with “Michael Lives Forever” Porto Portugal w Rodrigo Teaser
DESCRIPTION:
URL:https://www.jenniferbatten.com/event/guesting-with-michael-lives-forever-porto-portugal-w-rodrigo-teaser/
LOCATION:Super Bock Arena\, Jardins do Palácio de Cristal\, R. de Dom Manuel II\, 4050-346\, Porto\, Jardins do Palácio de Cristal\, R. de Dom Manuel II\, 4050-346 Porto\, Portugal\, Portugal
END:VEVENT
BEGIN:VEVENT
DTSTART;TZID=America/Los_Angeles:20231005T120000
DTEND;TZID=America/Los_Angeles:20231005T170000
DTSTAMP:20260421T191105
CREATED:20230926T221502Z
LAST-MODIFIED:20230926T221822Z
UID:5249-1696507200-1696525200@www.jenniferbatten.com
SUMMARY:ACADEMIA DE GUITARRA  MÚSICA E TECNOLOGIA/Lisbon
DESCRIPTION:Guitar workshop/concert & Meet and Greet
URL:https://www.jenniferbatten.com/event/academia-de-guitarra-musica-e-tecnologia/
LOCATION:Academia de Guitarra . Música e Tecnologia (AGMT)\, Av. da República 28\, Algés\, 1495-107\, Portugal
END:VEVENT
BEGIN:VEVENT
DTSTART;TZID=America/Los_Angeles:20231004T220000
DTEND;TZID=America/Los_Angeles:20231004T220000
DTSTAMP:20260421T191105
CREATED:20230713T160951Z
LAST-MODIFIED:20230713T161027Z
UID:5133-1696456800-1696456800@www.jenniferbatten.com
SUMMARY:Guesting with "Michael Lives Forever" Lisbon w Rodrigo Teaser
DESCRIPTION:
URL:https://www.jenniferbatten.com/event/guesting-with-michael-lives-forever-lisbon-w-rodrigo-teaser/
LOCATION:Altice Arena\, Parque das Nações Rossio dos Olivais\, Lote 2.13.01A\, Lisbon\, Rossio dos Olivais\,\, 1990-231\, Portugal
END:VEVENT
BEGIN:VEVENT
DTSTART;TZID=America/Los_Angeles:20230930T190000
DTEND;TZID=America/Los_Angeles:20230930T220000
DTSTAMP:20260421T191105
CREATED:20230618T045020Z
LAST-MODIFIED:20230821T035506Z
UID:5067-1696100400-1696111200@www.jenniferbatten.com
SUMMARY:Jennifer Batten & Full Steam_Octoberfest Alderbrook Park
DESCRIPTION:80’s covers: Toto\, Journey\, Van Halen\, Pat Penatar\, Heart\, Yes\, Kenny Loggins\, ZZ Top
URL:https://www.jenniferbatten.com/event/jennifer-batten-full-steam_octoberfest-alderbrook-park/
LOCATION:Alderbrook Park\, Alderbrook park 24414 NE Westerholm Rd\, Bush Prairie\, WA\, 98606\, United States
END:VEVENT
BEGIN:VEVENT
DTSTART;TZID=America/Los_Angeles:20230923T190000
DTEND;TZID=America/Los_Angeles:20230923T210000
DTSTAMP:20260421T191105
CREATED:20230711T221533Z
LAST-MODIFIED:20230711T221533Z
UID:5123-1695495600-1695502800@www.jenniferbatten.com
SUMMARY:Guesting w King of Pop Tribute with Navi
DESCRIPTION:
URL:https://www.jenniferbatten.com/event/guesting-w-king-of-pop-tribute-with-navi-12/
LOCATION:Forum\, Queensway\,\, Stockton-on-Tees\, TS23 2LJ\, United Kingdom
END:VEVENT
BEGIN:VEVENT
DTSTART;TZID=America/Los_Angeles:20230922T080000
DTEND;TZID=America/Los_Angeles:20230922T170000
DTSTAMP:20260421T191105
CREATED:20230711T221317Z
LAST-MODIFIED:20230711T221317Z
UID:5117-1695369600-1695402000@www.jenniferbatten.com
SUMMARY:Guesting w King of Pop Tribute with Navi
DESCRIPTION:
URL:https://www.jenniferbatten.com/event/guesting-w-king-of-pop-tribute-with-navi-11/
LOCATION:The Cresset\, Rightwell E\,\, Peterborough\, PE3 8DX\, United Kingdom
END:VEVENT
BEGIN:VEVENT
DTSTART;TZID=America/Los_Angeles:20230921T190000
DTEND;TZID=America/Los_Angeles:20230921T210000
DTSTAMP:20260421T191105
CREATED:20230711T221147Z
LAST-MODIFIED:20230711T221147Z
UID:5113-1695322800-1695330000@www.jenniferbatten.com
SUMMARY:Guesting w King of Pop Tribute with Navi
DESCRIPTION:
URL:https://www.jenniferbatten.com/event/guesting-w-king-of-pop-tribute-with-navi-10/
LOCATION:Millfield Theatre\, Silver St.\, London\, Enfield\, N18 1PJ\, United Kingdom
END:VEVENT
BEGIN:VEVENT
DTSTART;TZID=America/Los_Angeles:20230919T190000
DTEND;TZID=America/Los_Angeles:20230919T210000
DTSTAMP:20260421T191105
CREATED:20230711T220528Z
LAST-MODIFIED:20230711T220528Z
UID:5102-1695150000-1695157200@www.jenniferbatten.com
SUMMARY:Guesting w King of Pop Tribute with Navi
DESCRIPTION:
URL:https://www.jenniferbatten.com/event/guesting-w-king-of-pop-tribute-with-navi-7/
LOCATION:Royal Concert Halls\, 2 Sauchiehall St\,\, Glasgow\, G2 3NY\, United Kingdom
END:VEVENT
BEGIN:VEVENT
DTSTART;TZID=America/Los_Angeles:20230918T190000
DTEND;TZID=America/Los_Angeles:20230918T210000
DTSTAMP:20260421T191105
CREATED:20230711T220918Z
LAST-MODIFIED:20230711T220918Z
UID:5110-1695063600-1695070800@www.jenniferbatten.com
SUMMARY:Guesting w King of Pop Tribute with Navi
DESCRIPTION:
URL:https://www.jenniferbatten.com/event/guesting-w-king-of-pop-tribute-with-navi-9/
LOCATION:Tivoli Theatre\, 34-48 Guild St\, Aberdeen\, Aberdeen\, AB11 6NB\, United Kingdom
END:VEVENT
BEGIN:VEVENT
DTSTART;TZID=America/Los_Angeles:20230917T190000
DTEND;TZID=America/Los_Angeles:20230917T213000
DTSTAMP:20260421T191105
CREATED:20230807T155735Z
LAST-MODIFIED:20230807T155819Z
UID:5150-1694977200-1694986200@www.jenniferbatten.com
SUMMARY:Guesting w King of Pop Tribute with Navi
DESCRIPTION:
URL:https://www.jenniferbatten.com/event/dundee-whitehall-theatre-guesting-with-navi-king-of-pop-show/
LOCATION:Dundee Whitehall Theatre\, 12 Bellfield St\, Dundee\, Dundee\, DD1 5JA\, United Kingdom
END:VEVENT
END:VCALENDAR