BEGIN:VCALENDAR
VERSION:2.0
PRODID:-//Jennifer Batten - ECPv6.15.13//NONSGML v1.0//EN
CALSCALE:GREGORIAN
METHOD:PUBLISH
X-WR-CALNAME:Jennifer Batten
X-ORIGINAL-URL:https://www.jenniferbatten.com
X-WR-CALDESC:Events for Jennifer Batten
REFRESH-INTERVAL;VALUE=DURATION:PT1H
X-Robots-Tag:noindex
X-PUBLISHED-TTL:PT1H
BEGIN:VTIMEZONE
TZID:America/Los_Angeles
BEGIN:DAYLIGHT
TZOFFSETFROM:-0800
TZOFFSETTO:-0700
TZNAME:PDT
DTSTART:20230312T100000
END:DAYLIGHT
BEGIN:STANDARD
TZOFFSETFROM:-0700
TZOFFSETTO:-0800
TZNAME:PST
DTSTART:20231105T090000
END:STANDARD
BEGIN:DAYLIGHT
TZOFFSETFROM:-0800
TZOFFSETTO:-0700
TZNAME:PDT
DTSTART:20240310T100000
END:DAYLIGHT
BEGIN:STANDARD
TZOFFSETFROM:-0700
TZOFFSETTO:-0800
TZNAME:PST
DTSTART:20241103T090000
END:STANDARD
BEGIN:DAYLIGHT
TZOFFSETFROM:-0800
TZOFFSETTO:-0700
TZNAME:PDT
DTSTART:20250309T100000
END:DAYLIGHT
BEGIN:STANDARD
TZOFFSETFROM:-0700
TZOFFSETTO:-0800
TZNAME:PST
DTSTART:20251102T090000
END:STANDARD
BEGIN:DAYLIGHT
TZOFFSETFROM:-0800
TZOFFSETTO:-0700
TZNAME:PDT
DTSTART:20260308T100000
END:DAYLIGHT
BEGIN:STANDARD
TZOFFSETFROM:-0700
TZOFFSETTO:-0800
TZNAME:PST
DTSTART:20261101T090000
END:STANDARD
END:VTIMEZONE
BEGIN:VEVENT
DTSTART;TZID=America/Los_Angeles:20250320T193000
DTEND;TZID=America/Los_Angeles:20250320T220000
DTSTAMP:20260421T184818
CREATED:20240608T025535Z
LAST-MODIFIED:20240608T025631Z
UID:5884-1742499000-1742508000@www.jenniferbatten.com
SUMMARY:One Night Of MJ - The Tribute To The King Of Pop!
DESCRIPTION: 
URL:https://www.jenniferbatten.com/event/5884/
LOCATION:Kur & Kongress-Center\, Erkenbrechtallee 2\, Bad Windsheim\, 91438\, Germany
END:VEVENT
BEGIN:VEVENT
DTSTART;TZID=America/Los_Angeles:20250319T193000
DTEND;TZID=America/Los_Angeles:20250319T220000
DTSTAMP:20260421T184818
CREATED:20250315T114913Z
LAST-MODIFIED:20250315T114913Z
UID:6445-1742412600-1742421600@www.jenniferbatten.com
SUMMARY:One Night Of MJ - The Tribute To The King Of Pop!
DESCRIPTION:
URL:https://www.jenniferbatten.com/event/one-night-of-mj-the-tribute-to-the-king-of-pop-44/
LOCATION:Stadthalle Aschaffenburg\, Schlossplatz 1\,\, Aschaffenburg\, 63739\, Germany
END:VEVENT
BEGIN:VEVENT
DTSTART;TZID=America/Los_Angeles:20250316T190000
DTEND;TZID=America/Los_Angeles:20250316T220000
DTSTAMP:20260421T184818
CREATED:20240608T025000Z
LAST-MODIFIED:20240608T025020Z
UID:5875-1742151600-1742162400@www.jenniferbatten.com
SUMMARY:One Night Of MJ - The Tribute To The King Of Pop!
DESCRIPTION:
URL:https://www.jenniferbatten.com/event/5875/
LOCATION:Seidenweberhaus\, Theaterplatz 1\, Krefeld\, 47798
END:VEVENT
BEGIN:VEVENT
DTSTART;TZID=America/Los_Angeles:20250315T200000
DTEND;TZID=America/Los_Angeles:20250315T223000
DTSTAMP:20260421T184818
CREATED:20240608T025322Z
LAST-MODIFIED:20240608T025355Z
UID:5880-1742068800-1742077800@www.jenniferbatten.com
SUMMARY:One Night Of MJ - The Tribute To The King Of Pop!
DESCRIPTION:
URL:https://www.jenniferbatten.com/event/one-night-of-mj-the-tribute-to-the-king-of-pop-7/
LOCATION:Rattenfänger-Halle\, Mühlenstraße 17\, Hameln\, 31785\, Germany
END:VEVENT
BEGIN:VEVENT
DTSTART;TZID=America/Los_Angeles:20250314T200000
DTEND;TZID=America/Los_Angeles:20250314T223000
DTSTAMP:20260421T184818
CREATED:20240608T024413Z
LAST-MODIFIED:20240608T024520Z
UID:5870-1741982400-1741991400@www.jenniferbatten.com
SUMMARY:One Night Of MJ - The Tribute To The King Of Pop!
DESCRIPTION:
URL:https://www.jenniferbatten.com/event/5870/
LOCATION:Paderhalle\, Heiersmauer 45-51\, Paderborn\, 33098\, Germany
END:VEVENT
BEGIN:VEVENT
DTSTART;TZID=America/Los_Angeles:20250313T193000
DTEND;TZID=America/Los_Angeles:20250313T220000
DTSTAMP:20260421T184818
CREATED:20240608T024217Z
LAST-MODIFIED:20240608T024217Z
UID:5866-1741894200-1741903200@www.jenniferbatten.com
SUMMARY:One Night Of MJ - The Tribute To The King Of Pop!
DESCRIPTION:
URL:https://www.jenniferbatten.com/event/one-night-of-mj-the-tribute-to-the-king-of-pop-6/
LOCATION:Theater und Konzerthaus\, Pina-Bausch-Saal Konrad-\, Adenauer-Straße 71\, Solingen\, 42651\, Germany
END:VEVENT
BEGIN:VEVENT
DTSTART;TZID=America/Los_Angeles:20250312T193000
DTEND;TZID=America/Los_Angeles:20250312T220000
DTSTAMP:20260421T184818
CREATED:20240608T023827Z
LAST-MODIFIED:20240608T023839Z
UID:5862-1741807800-1741816800@www.jenniferbatten.com
SUMMARY:One Night Of MJ - The Tribute To The King Of Pop!
DESCRIPTION:
URL:https://www.jenniferbatten.com/event/one-night-of-mj-the-tribute-to-the-king-of-pop-5/
LOCATION:Siegerlandhalle\, Leonhard-Gläser-Saal\, Koblenzer Str. 151\, Siegen\, 57072\, Germany
END:VEVENT
BEGIN:VEVENT
DTSTART;TZID=America/Los_Angeles:20250309T080000
DTEND;TZID=America/Los_Angeles:20250309T170000
DTSTAMP:20260421T184818
CREATED:20240608T023607Z
LAST-MODIFIED:20240608T023607Z
UID:5858-1741507200-1741539600@www.jenniferbatten.com
SUMMARY:One Night Of MJ - The Tribute To The King Of Pop!
DESCRIPTION:
URL:https://www.jenniferbatten.com/event/one-night-of-mj-the-tribute-to-the-king-of-pop-4/
LOCATION:Max-Littmann\, Saal Ludwigstraße 2\, Bad Kissingen\, 97688\, Germany
END:VEVENT
BEGIN:VEVENT
DTSTART;TZID=America/Los_Angeles:20250308T200000
DTEND;TZID=America/Los_Angeles:20250308T223000
DTSTAMP:20260421T184818
CREATED:20240608T023356Z
LAST-MODIFIED:20240608T023356Z
UID:5854-1741464000-1741473000@www.jenniferbatten.com
SUMMARY:One Night Of MJ - The Tribute To The King Of Pop!
DESCRIPTION:  \n  \n 
URL:https://www.jenniferbatten.com/event/one-night-of-mj-the-tribute-to-the-king-of-pop-3/
LOCATION:Theater Ingolstadt\, Festsaal Schloßlände 1\, Ingolstadt\, 85049\, Germany
END:VEVENT
BEGIN:VEVENT
DTSTART;TZID=America/Los_Angeles:20250307T193000
DTEND;TZID=America/Los_Angeles:20250307T220000
DTSTAMP:20260421T184818
CREATED:20240608T023025Z
LAST-MODIFIED:20240608T023025Z
UID:5850-1741375800-1741384800@www.jenniferbatten.com
SUMMARY:One Night Of MJ - The Tribute To The King Of Pop!
DESCRIPTION:
URL:https://www.jenniferbatten.com/event/one-night-of-mj-the-tribute-to-the-king-of-pop-2/
LOCATION:Meistersingerhalle\, Großer Saal Münchener Straße 21\, Nürnberg\, 90478\, Germany
END:VEVENT
BEGIN:VEVENT
DTSTART;TZID=America/Los_Angeles:20250306T193000
DTEND;TZID=America/Los_Angeles:20250306T220000
DTSTAMP:20260421T184818
CREATED:20240608T022731Z
LAST-MODIFIED:20240608T022731Z
UID:5845-1741289400-1741298400@www.jenniferbatten.com
SUMMARY:One Night Of MJ - The Tribute To The King Of Pop!
DESCRIPTION:with Wendel Gama \nThursday 06.03.2025 at 19:30 \n\n\nKultur + Kongresszentrum (Saal Bayern)\nKufsteiner Straße 4\n83022 Rosenheim
URL:https://www.jenniferbatten.com/event/one-night-of-mj-the-tribute-to-the-king-of-pop/
LOCATION:Kultur + Kongresszentrum (Saal Bayern)\, Kufsteiner Straße 4\, Rosenheim\, 83022\, Germany
END:VEVENT
BEGIN:VEVENT
DTSTART;TZID=America/Los_Angeles:20241221T210000
DTEND;TZID=America/Los_Angeles:20241221T233000
DTSTAMP:20260421T184818
CREATED:20241110T171902Z
LAST-MODIFIED:20241110T180830Z
UID:6205-1734814800-1734823800@www.jenniferbatten.com
SUMMARY:Guesting with “Michael the Show” ft Wendel Gama\, orchestra and horns
DESCRIPTION:
URL:https://www.jenniferbatten.com/event/guesting-with-michael-the-show-ft-wendel-gama-orchestra-and-horns-11/
LOCATION:Teatro Metropol\, Via Provinciale\, 68\, Corigliano Scalo CS\, 87064\, Italy
END:VEVENT
BEGIN:VEVENT
DTSTART;TZID=America/Los_Angeles:20241220T210000
DTEND;TZID=America/Los_Angeles:20241220T233000
DTSTAMP:20260421T184818
CREATED:20240919T171607Z
LAST-MODIFIED:20240919T171607Z
UID:6049-1734728400-1734737400@www.jenniferbatten.com
SUMMARY:Guesting with “Michael the Show” ft Wendel Gama\, orchestra and horns
DESCRIPTION:
URL:https://www.jenniferbatten.com/event/guesting-with-michael-the-show-ft-wendel-gama-orchestra-and-horns-10/
LOCATION:Teatro Comunale Vincenzo Scaramuzza\, Crotone\, Italy
END:VEVENT
BEGIN:VEVENT
DTSTART;TZID=America/Los_Angeles:20241218T210000
DTEND;TZID=America/Los_Angeles:20241218T230000
DTSTAMP:20260421T184818
CREATED:20240606T053407Z
LAST-MODIFIED:20240721T210521Z
UID:5826-1734555600-1734562800@www.jenniferbatten.com
SUMMARY:Guesting with "Michael the Show" ft Wendel Gama\, orchestra and horns
DESCRIPTION:
URL:https://www.jenniferbatten.com/event/guesting-with-michael-the-show-with-wendel-gama-orchestra-and-horns-6/
LOCATION:Teatro Team\, Via Giustina Rocca sn\,\, BARI\, 70126\, Italy
END:VEVENT
BEGIN:VEVENT
DTSTART;TZID=America/Los_Angeles:20241217T210000
DTEND;TZID=America/Los_Angeles:20241217T230000
DTSTAMP:20260421T184818
CREATED:20240606T052904Z
LAST-MODIFIED:20240721T210456Z
UID:5822-1734469200-1734476400@www.jenniferbatten.com
SUMMARY:Guesting with "Michael the Show" ft Wendel Gama\, orchestra and horns
DESCRIPTION:
URL:https://www.jenniferbatten.com/event/guesting-with-michael-the-show-with-wendel-gama-orchestra-and-horns-5/
LOCATION:Teatro Garden\, Via Torino\,\, Roges di Rende\, 87100\, Italy
END:VEVENT
BEGIN:VEVENT
DTSTART;TZID=America/Los_Angeles:20241216T200000
DTEND;TZID=America/Los_Angeles:20241216T233000
DTSTAMP:20260421T184818
CREATED:20240606T052127Z
LAST-MODIFIED:20240721T210431Z
UID:5818-1734379200-1734391800@www.jenniferbatten.com
SUMMARY:Guesting with "Michael the Show" ft Wendel Gama\, orchestra and horns
DESCRIPTION:
URL:https://www.jenniferbatten.com/event/guesting-with-michael-the-show-with-wendel-gama-orchestra-and-horns-4/
LOCATION:Palapartenope\, Via Corrado Barbagallo\, 115\, Napoli NA\, Napoli NA\, 80125
END:VEVENT
BEGIN:VEVENT
DTSTART;TZID=America/Los_Angeles:20241215T210000
DTEND;TZID=America/Los_Angeles:20241215T233000
DTSTAMP:20260421T184818
CREATED:20240721T205727Z
LAST-MODIFIED:20240721T205956Z
UID:5984-1734296400-1734305400@www.jenniferbatten.com
SUMMARY:Guesting with "Michael the Show" ft Wendel Gama\, orchestra\, and horns
DESCRIPTION:
URL:https://www.jenniferbatten.com/event/guesting-with-michael-the-show-ft-wendel-gama-orchestra-and-horns-6/
LOCATION:Teatro Europa\, Corso Papa Giovanni XXIII\, 32\, Aprilia\, LT\, 04011\, Italy
END:VEVENT
BEGIN:VEVENT
DTSTART;TZID=America/Los_Angeles:20241213T210000
DTEND;TZID=America/Los_Angeles:20241213T233000
DTSTAMP:20260421T184818
CREATED:20240721T205412Z
LAST-MODIFIED:20240721T205412Z
UID:5980-1734123600-1734132600@www.jenniferbatten.com
SUMMARY:Guesting with "Michael the Show" ft Wendel Gama\, orchestra and horns
DESCRIPTION:
URL:https://www.jenniferbatten.com/event/guesting-with-michael-the-show-ft-wendel-gama-orchestra-and-horns-5/
LOCATION:Palariviera\, 63074 san benedetto del tronto palariviera\, San Benedetto del Tronto\, Ascoli Piceno\, Italy
END:VEVENT
BEGIN:VEVENT
DTSTART;TZID=America/Los_Angeles:20241211T210000
DTEND;TZID=America/Los_Angeles:20241211T233000
DTSTAMP:20260421T184818
CREATED:20240721T204506Z
LAST-MODIFIED:20240721T204739Z
UID:5976-1733950800-1733959800@www.jenniferbatten.com
SUMMARY:Guesting with "Michael the Show" ft Wendel Gama\, orchestra and horns
DESCRIPTION:
URL:https://www.jenniferbatten.com/event/guesting-with-michael-the-show-ft-wendel-gama-orchestra-and-horns-4/
LOCATION:Teatro Nuovo\, Piazza Trento - Trieste\, n. 52\,\, Ferrara\, FE\,\, 44121\, Italy
END:VEVENT
BEGIN:VEVENT
DTSTART;TZID=America/Los_Angeles:20241210T210000
DTEND;TZID=America/Los_Angeles:20241210T230000
DTSTAMP:20260421T184818
CREATED:20240904T212357Z
LAST-MODIFIED:20240904T214912Z
UID:6034-1733864400-1733871600@www.jenniferbatten.com
SUMMARY:Guesting with "Michael the Show" ft Wendel Gama\, orchestra and horns
DESCRIPTION:
URL:https://www.jenniferbatten.com/event/guesting-with-michael-the-show-ft-wendel-gama-orchestra-and-horns-8/
LOCATION:Dis_Play\, Via Caprera 5\, Brescia\, BS\, 25125\, Italy
END:VEVENT
BEGIN:VEVENT
DTSTART;TZID=America/Los_Angeles:20241203T210000
DTEND;TZID=America/Los_Angeles:20241203T233000
DTSTAMP:20260421T184818
CREATED:20241001T174811Z
LAST-MODIFIED:20241001T174911Z
UID:6170-1733259600-1733268600@www.jenniferbatten.com
SUMMARY:Guesting with "This Is Michael" w Lenny Jay
DESCRIPTION:
URL:https://www.jenniferbatten.com/event/guesting-with-this-is-michael-w-lenny-jay-4/
LOCATION:BB Auditorium\, Tlaxcala 160\, Hipódromo Condesa\, Cuauhtémoc\,\, Mexico City\, 06170\, Mexico
END:VEVENT
BEGIN:VEVENT
DTSTART;TZID=America/Los_Angeles:20241129T210000
DTEND;TZID=America/Los_Angeles:20241129T233000
DTSTAMP:20260421T184818
CREATED:20241001T174513Z
LAST-MODIFIED:20241001T174513Z
UID:6166-1732914000-1732923000@www.jenniferbatten.com
SUMMARY:Guesting with "This Is Michael" w Lenny Jay
DESCRIPTION:
URL:https://www.jenniferbatten.com/event/guesting-with-this-is-michael-w-lenny-jay-3/
LOCATION:Auditorio La Isla\, C. 88 688\, 97300\, Mérida\, Yuc\, Mexico
END:VEVENT
BEGIN:VEVENT
DTSTART;TZID=America/Los_Angeles:20241128T210000
DTEND;TZID=America/Los_Angeles:20241128T233000
DTSTAMP:20260421T184818
CREATED:20241001T174135Z
LAST-MODIFIED:20241001T174135Z
UID:6161-1732827600-1732836600@www.jenniferbatten.com
SUMMARY:Guesting with "This Is Michael" w Lenny Jay
DESCRIPTION:
URL:https://www.jenniferbatten.com/event/guesting-with-this-is-michael-w-lenny-jay-2/
LOCATION:Teatro Diana\, Av. 16 de Septiembre 710\, Mexicaltzingo\,\, Guadalajara\, Jal\, 44180\, Mexico
END:VEVENT
BEGIN:VEVENT
DTSTART;TZID=America/Los_Angeles:20241126T210000
DTEND;TZID=America/Los_Angeles:20241126T233000
DTSTAMP:20260421T184818
CREATED:20241001T173853Z
LAST-MODIFIED:20241001T173853Z
UID:6156-1732654800-1732663800@www.jenniferbatten.com
SUMMARY:Guesting with "This Is Michael" w Lenny Jay
DESCRIPTION:
URL:https://www.jenniferbatten.com/event/guesting-with-this-is-michael-w-lenny-jay/
LOCATION:Show Center\, Av. Batallón de San Patricio 1000\,\, Monterrey\, Zona San Agustín\, San Pedro Garza García\, N.L.\, 66266\, Mexico
END:VEVENT
BEGIN:VEVENT
DTSTART;TZID=America/Los_Angeles:20241123T210000
DTEND;TZID=America/Los_Angeles:20241123T233000
DTSTAMP:20260421T184818
CREATED:20241001T175750Z
LAST-MODIFIED:20241001T175750Z
UID:6174-1732395600-1732404600@www.jenniferbatten.com
SUMMARY:Guesting with "This Is Michael" w Lenny Jay
DESCRIPTION:
URL:https://www.jenniferbatten.com/event/guesting-with-this-is-michael-w-lenny-jay-5/
LOCATION:Teatro Gran Rex\, Av. Corrientes 857\,\, Buenos Aires\, Cdad. Autónoma de \,\, C1043AAI\, Argentina
END:VEVENT
BEGIN:VEVENT
DTSTART;TZID=America/Los_Angeles:20241119T210000
DTEND;TZID=America/Los_Angeles:20241119T230000
DTSTAMP:20260421T184818
CREATED:20240904T211904Z
LAST-MODIFIED:20240904T211904Z
UID:6030-1732050000-1732057200@www.jenniferbatten.com
SUMMARY:Guesting with "Michael the Show" ft Wendel Gama\, orchestra and horns
DESCRIPTION:
URL:https://www.jenniferbatten.com/event/guesting-with-michael-the-show-ft-wendel-gama-orchestra-and-horns-7/
LOCATION:Teatro Massimo\, Via Caduti del Forte\, 15\,\, PESCARA PE\, 65100\, Italy
END:VEVENT
BEGIN:VEVENT
DTSTART;TZID=America/Los_Angeles:20241116T210000
DTEND;TZID=America/Los_Angeles:20241116T233000
DTSTAMP:20260421T184818
CREATED:20240721T204202Z
LAST-MODIFIED:20240721T204202Z
UID:5972-1731790800-1731799800@www.jenniferbatten.com
SUMMARY:Guesting with "Michael the Show" ft Wendel Gama\, orchestra\, and horns
DESCRIPTION:
URL:https://www.jenniferbatten.com/event/guesting-with-michael-the-show-ft-wendel-gama-orchestra-and-horns-3/
LOCATION:Teatro Lyric Assisi\, Viale Gabriele D'Annunzio\,\, Santa Maria degli Angeli PG\, 06081\, Italy
END:VEVENT
BEGIN:VEVENT
DTSTART;TZID=America/Los_Angeles:20241113T210000
DTEND;TZID=America/Los_Angeles:20241113T233000
DTSTAMP:20260421T184818
CREATED:20240721T203846Z
LAST-MODIFIED:20241110T164853Z
UID:5968-1731531600-1731540600@www.jenniferbatten.com
SUMMARY:Guesting with "Michael the Show" ft Wendel Gama\, orchestra and horns
DESCRIPTION:
URL:https://www.jenniferbatten.com/event/guesting-with-michael-the-show-ft-wendel-gama-orchestra-and-horns-2/
LOCATION:Teatro Olimpico\, Piazza Gentile da Fabriano\, 17\,\, Roma RM\, 00196\, Italy
END:VEVENT
BEGIN:VEVENT
DTSTART;TZID=America/Los_Angeles:20241111T210000
DTEND;TZID=America/Los_Angeles:20241111T233000
DTSTAMP:20260421T184818
CREATED:20240919T165240Z
LAST-MODIFIED:20240919T165240Z
UID:6044-1731358800-1731367800@www.jenniferbatten.com
SUMMARY:Guesting with “Michael the Show” ft Wendel Gama\, orchestra\, and horns
DESCRIPTION:
URL:https://www.jenniferbatten.com/event/guesting-with-michael-the-show-ft-wendel-gama-orchestra-and-horns-9/
LOCATION:Teatro Ariston\, Via Giacomo Matteotti\, 212\, Sanremo\, 18038\, Italy
END:VEVENT
BEGIN:VEVENT
DTSTART;TZID=America/Los_Angeles:20241109T210000
DTEND;TZID=America/Los_Angeles:20241109T233000
DTSTAMP:20260421T184818
CREATED:20240721T203434Z
LAST-MODIFIED:20240721T203434Z
UID:5964-1731186000-1731195000@www.jenniferbatten.com
SUMMARY:Guesting with "Michael the Show" ft Wendel Gama\, orchestra\, and horns
DESCRIPTION:
URL:https://www.jenniferbatten.com/event/guesting-with-michael-the-show-ft-wendel-gama-orchestra-and-horns/
LOCATION:PalaUnical\, Via Melchiorre Gioia\, 3\,\, Mantova MN\, MN\, 46100
END:VEVENT
END:VCALENDAR