BEGIN:VCALENDAR
VERSION:2.0
PRODID:-//Jennifer Batten - ECPv6.15.13//NONSGML v1.0//EN
CALSCALE:GREGORIAN
METHOD:PUBLISH
X-WR-CALNAME:Jennifer Batten
X-ORIGINAL-URL:https://www.jenniferbatten.com
X-WR-CALDESC:Events for Jennifer Batten
REFRESH-INTERVAL;VALUE=DURATION:PT1H
X-Robots-Tag:noindex
X-PUBLISHED-TTL:PT1H
BEGIN:VTIMEZONE
TZID:America/Los_Angeles
BEGIN:DAYLIGHT
TZOFFSETFROM:-0800
TZOFFSETTO:-0700
TZNAME:PDT
DTSTART:20230312T100000
END:DAYLIGHT
BEGIN:STANDARD
TZOFFSETFROM:-0700
TZOFFSETTO:-0800
TZNAME:PST
DTSTART:20231105T090000
END:STANDARD
BEGIN:DAYLIGHT
TZOFFSETFROM:-0800
TZOFFSETTO:-0700
TZNAME:PDT
DTSTART:20240310T100000
END:DAYLIGHT
BEGIN:STANDARD
TZOFFSETFROM:-0700
TZOFFSETTO:-0800
TZNAME:PST
DTSTART:20241103T090000
END:STANDARD
BEGIN:DAYLIGHT
TZOFFSETFROM:-0800
TZOFFSETTO:-0700
TZNAME:PDT
DTSTART:20250309T100000
END:DAYLIGHT
BEGIN:STANDARD
TZOFFSETFROM:-0700
TZOFFSETTO:-0800
TZNAME:PST
DTSTART:20251102T090000
END:STANDARD
END:VTIMEZONE
BEGIN:VEVENT
DTSTART;TZID=America/Los_Angeles:20241211T210000
DTEND;TZID=America/Los_Angeles:20241211T233000
DTSTAMP:20260422T145034
CREATED:20240721T204506Z
LAST-MODIFIED:20240721T204739Z
UID:5976-1733950800-1733959800@www.jenniferbatten.com
SUMMARY:Guesting with "Michael the Show" ft Wendel Gama\, orchestra and horns
DESCRIPTION:
URL:https://www.jenniferbatten.com/event/guesting-with-michael-the-show-ft-wendel-gama-orchestra-and-horns-4/
LOCATION:Teatro Nuovo\, Piazza Trento - Trieste\, n. 52\,\, Ferrara\, FE\,\, 44121\, Italy
END:VEVENT
BEGIN:VEVENT
DTSTART;TZID=America/Los_Angeles:20241210T210000
DTEND;TZID=America/Los_Angeles:20241210T230000
DTSTAMP:20260422T145034
CREATED:20240904T212357Z
LAST-MODIFIED:20240904T214912Z
UID:6034-1733864400-1733871600@www.jenniferbatten.com
SUMMARY:Guesting with "Michael the Show" ft Wendel Gama\, orchestra and horns
DESCRIPTION:
URL:https://www.jenniferbatten.com/event/guesting-with-michael-the-show-ft-wendel-gama-orchestra-and-horns-8/
LOCATION:Dis_Play\, Via Caprera 5\, Brescia\, BS\, 25125\, Italy
END:VEVENT
BEGIN:VEVENT
DTSTART;TZID=America/Los_Angeles:20241203T210000
DTEND;TZID=America/Los_Angeles:20241203T233000
DTSTAMP:20260422T145034
CREATED:20241001T174811Z
LAST-MODIFIED:20241001T174911Z
UID:6170-1733259600-1733268600@www.jenniferbatten.com
SUMMARY:Guesting with "This Is Michael" w Lenny Jay
DESCRIPTION:
URL:https://www.jenniferbatten.com/event/guesting-with-this-is-michael-w-lenny-jay-4/
LOCATION:BB Auditorium\, Tlaxcala 160\, Hipódromo Condesa\, Cuauhtémoc\,\, Mexico City\, 06170\, Mexico
END:VEVENT
BEGIN:VEVENT
DTSTART;TZID=America/Los_Angeles:20241129T210000
DTEND;TZID=America/Los_Angeles:20241129T233000
DTSTAMP:20260422T145034
CREATED:20241001T174513Z
LAST-MODIFIED:20241001T174513Z
UID:6166-1732914000-1732923000@www.jenniferbatten.com
SUMMARY:Guesting with "This Is Michael" w Lenny Jay
DESCRIPTION:
URL:https://www.jenniferbatten.com/event/guesting-with-this-is-michael-w-lenny-jay-3/
LOCATION:Auditorio La Isla\, C. 88 688\, 97300\, Mérida\, Yuc\, Mexico
END:VEVENT
BEGIN:VEVENT
DTSTART;TZID=America/Los_Angeles:20241128T210000
DTEND;TZID=America/Los_Angeles:20241128T233000
DTSTAMP:20260422T145034
CREATED:20241001T174135Z
LAST-MODIFIED:20241001T174135Z
UID:6161-1732827600-1732836600@www.jenniferbatten.com
SUMMARY:Guesting with "This Is Michael" w Lenny Jay
DESCRIPTION:
URL:https://www.jenniferbatten.com/event/guesting-with-this-is-michael-w-lenny-jay-2/
LOCATION:Teatro Diana\, Av. 16 de Septiembre 710\, Mexicaltzingo\,\, Guadalajara\, Jal\, 44180\, Mexico
END:VEVENT
BEGIN:VEVENT
DTSTART;TZID=America/Los_Angeles:20241126T210000
DTEND;TZID=America/Los_Angeles:20241126T233000
DTSTAMP:20260422T145034
CREATED:20241001T173853Z
LAST-MODIFIED:20241001T173853Z
UID:6156-1732654800-1732663800@www.jenniferbatten.com
SUMMARY:Guesting with "This Is Michael" w Lenny Jay
DESCRIPTION:
URL:https://www.jenniferbatten.com/event/guesting-with-this-is-michael-w-lenny-jay/
LOCATION:Show Center\, Av. Batallón de San Patricio 1000\,\, Monterrey\, Zona San Agustín\, San Pedro Garza García\, N.L.\, 66266\, Mexico
END:VEVENT
BEGIN:VEVENT
DTSTART;TZID=America/Los_Angeles:20241123T210000
DTEND;TZID=America/Los_Angeles:20241123T233000
DTSTAMP:20260422T145034
CREATED:20241001T175750Z
LAST-MODIFIED:20241001T175750Z
UID:6174-1732395600-1732404600@www.jenniferbatten.com
SUMMARY:Guesting with "This Is Michael" w Lenny Jay
DESCRIPTION:
URL:https://www.jenniferbatten.com/event/guesting-with-this-is-michael-w-lenny-jay-5/
LOCATION:Teatro Gran Rex\, Av. Corrientes 857\,\, Buenos Aires\, Cdad. Autónoma de \,\, C1043AAI\, Argentina
END:VEVENT
BEGIN:VEVENT
DTSTART;TZID=America/Los_Angeles:20241119T210000
DTEND;TZID=America/Los_Angeles:20241119T230000
DTSTAMP:20260422T145034
CREATED:20240904T211904Z
LAST-MODIFIED:20240904T211904Z
UID:6030-1732050000-1732057200@www.jenniferbatten.com
SUMMARY:Guesting with "Michael the Show" ft Wendel Gama\, orchestra and horns
DESCRIPTION:
URL:https://www.jenniferbatten.com/event/guesting-with-michael-the-show-ft-wendel-gama-orchestra-and-horns-7/
LOCATION:Teatro Massimo\, Via Caduti del Forte\, 15\,\, PESCARA PE\, 65100\, Italy
END:VEVENT
BEGIN:VEVENT
DTSTART;TZID=America/Los_Angeles:20241116T210000
DTEND;TZID=America/Los_Angeles:20241116T233000
DTSTAMP:20260422T145034
CREATED:20240721T204202Z
LAST-MODIFIED:20240721T204202Z
UID:5972-1731790800-1731799800@www.jenniferbatten.com
SUMMARY:Guesting with "Michael the Show" ft Wendel Gama\, orchestra\, and horns
DESCRIPTION:
URL:https://www.jenniferbatten.com/event/guesting-with-michael-the-show-ft-wendel-gama-orchestra-and-horns-3/
LOCATION:Teatro Lyric Assisi\, Viale Gabriele D'Annunzio\,\, Santa Maria degli Angeli PG\, 06081\, Italy
END:VEVENT
BEGIN:VEVENT
DTSTART;TZID=America/Los_Angeles:20241113T210000
DTEND;TZID=America/Los_Angeles:20241113T233000
DTSTAMP:20260422T145034
CREATED:20240721T203846Z
LAST-MODIFIED:20241110T164853Z
UID:5968-1731531600-1731540600@www.jenniferbatten.com
SUMMARY:Guesting with "Michael the Show" ft Wendel Gama\, orchestra and horns
DESCRIPTION:
URL:https://www.jenniferbatten.com/event/guesting-with-michael-the-show-ft-wendel-gama-orchestra-and-horns-2/
LOCATION:Teatro Olimpico\, Piazza Gentile da Fabriano\, 17\,\, Roma RM\, 00196\, Italy
END:VEVENT
BEGIN:VEVENT
DTSTART;TZID=America/Los_Angeles:20241111T210000
DTEND;TZID=America/Los_Angeles:20241111T233000
DTSTAMP:20260422T145034
CREATED:20240919T165240Z
LAST-MODIFIED:20240919T165240Z
UID:6044-1731358800-1731367800@www.jenniferbatten.com
SUMMARY:Guesting with “Michael the Show” ft Wendel Gama\, orchestra\, and horns
DESCRIPTION:
URL:https://www.jenniferbatten.com/event/guesting-with-michael-the-show-ft-wendel-gama-orchestra-and-horns-9/
LOCATION:Teatro Ariston\, Via Giacomo Matteotti\, 212\, Sanremo\, 18038\, Italy
END:VEVENT
BEGIN:VEVENT
DTSTART;TZID=America/Los_Angeles:20241109T210000
DTEND;TZID=America/Los_Angeles:20241109T233000
DTSTAMP:20260422T145034
CREATED:20240721T203434Z
LAST-MODIFIED:20240721T203434Z
UID:5964-1731186000-1731195000@www.jenniferbatten.com
SUMMARY:Guesting with "Michael the Show" ft Wendel Gama\, orchestra\, and horns
DESCRIPTION:
URL:https://www.jenniferbatten.com/event/guesting-with-michael-the-show-ft-wendel-gama-orchestra-and-horns/
LOCATION:PalaUnical\, Via Melchiorre Gioia\, 3\,\, Mantova MN\, MN\, 46100
END:VEVENT
BEGIN:VEVENT
DTSTART;TZID=America/Los_Angeles:20241108T080000
DTEND;TZID=America/Los_Angeles:20241108T170000
DTSTAMP:20260422T145034
CREATED:20240904T211152Z
LAST-MODIFIED:20240904T211152Z
UID:6026-1731052800-1731085200@www.jenniferbatten.com
SUMMARY:Guesting with "Michael the Show" with Wendel Gama\, orchestra and horns
DESCRIPTION:
URL:https://www.jenniferbatten.com/event/guesting-with-michael-the-show-with-wendel-gama-orchestra-and-horns-2/
LOCATION:Teatro Corso\, Corso del Popolo\, 30\,\, MESTRE VE\, 30172\, Italy
END:VEVENT
BEGIN:VEVENT
DTSTART;TZID=America/Los_Angeles:20241107T210000
DTEND;TZID=America/Los_Angeles:20241107T230000
DTSTAMP:20260422T145034
CREATED:20240606T050912Z
LAST-MODIFIED:20240606T050956Z
UID:5803-1731013200-1731020400@www.jenniferbatten.com
SUMMARY:Guesting with "Michael the Show" with Wendel Gama\, orchestra and horns
DESCRIPTION:
URL:https://www.jenniferbatten.com/event/5803/
LOCATION:Auditorium Santa Chiara\, Via Santa Croce\, 67\,\, Trento\, TN\, 38122
END:VEVENT
BEGIN:VEVENT
DTSTART;TZID=America/Los_Angeles:20241105T210000
DTEND;TZID=America/Los_Angeles:20241105T233000
DTSTAMP:20260422T145034
CREATED:20240527T203030Z
LAST-MODIFIED:20240721T203022Z
UID:5783-1730840400-1730849400@www.jenniferbatten.com
SUMMARY:Guesting with "Michael the Show" with Wendel Gama\, orchestra\, and horns
DESCRIPTION:
URL:https://www.jenniferbatten.com/event/michael-the-show-in-europe-nov-5-18-details-tba/
LOCATION:Cinema Politeama\, Via S. Siro\, 7\,\, Piacenza\, PC\, 29121\, Italy
END:VEVENT
BEGIN:VEVENT
DTSTART;TZID=America/Los_Angeles:20241104T210000
DTEND;TZID=America/Los_Angeles:20241104T233000
DTSTAMP:20260422T145034
CREATED:20240606T045150Z
LAST-MODIFIED:20240721T202728Z
UID:5793-1730754000-1730763000@www.jenniferbatten.com
SUMMARY:Guesting with "Michael the Show" ft Wendel Gama\, orchestra and horns
DESCRIPTION:
URL:https://www.jenniferbatten.com/event/guesting-with-michael-the-show-with-wendel-gama-orchestra-and-horns/
LOCATION:Teatro Cartiere Carrara\, via Fabrizio de André angolo\, Lungarno Aldo Moro\, 3\, Firenze FI\, Firenze\, 50136\, Italy
END:VEVENT
BEGIN:VEVENT
DTSTART;TZID=America/Los_Angeles:20241103T210000
DTEND;TZID=America/Los_Angeles:20241103T233000
DTSTAMP:20260422T145034
CREATED:20240721T202256Z
LAST-MODIFIED:20240721T202915Z
UID:5956-1730667600-1730676600@www.jenniferbatten.com
SUMMARY:Guesting with "Michael the Show" ft Wendel Gama\, orchestra\, and horns
DESCRIPTION:
URL:https://www.jenniferbatten.com/event/guesting-with-michael-the-show-featuring-wendel-gama/
LOCATION:Teatro Moderno\, Via Tripoli\, 33\, Grosseto GR\,\, GR\, 58100\, Italy
END:VEVENT
BEGIN:VEVENT
DTSTART;TZID=America/Los_Angeles:20241030T200000
DTEND;TZID=America/Los_Angeles:20241030T220000
DTSTAMP:20260422T145034
CREATED:20231202T195008Z
LAST-MODIFIED:20231202T195008Z
UID:5482-1730318400-1730325600@www.jenniferbatten.com
SUMMARY:Guesting with "Michael Jackson Tribute Live Experience" Austria
DESCRIPTION:
URL:https://www.jenniferbatten.com/event/guesting-with-michael-jackson-tribute-live-experience-austria-9/
LOCATION:Wieselburg – Messe\, Volksfestpl. 3\,\, Wieselburg\, 3250
END:VEVENT
BEGIN:VEVENT
DTSTART;TZID=America/Los_Angeles:20241029T120000
DTEND;TZID=America/Los_Angeles:20241029T140000
DTSTAMP:20260422T145034
CREATED:20240527T205319Z
LAST-MODIFIED:20240527T205528Z
UID:5789-1730203200-1730210400@www.jenniferbatten.com
SUMMARY:Workshop for students of University of Music and Performing Arts\, Vienna (private)
DESCRIPTION:
URL:https://www.jenniferbatten.com/event/workshop-for-students-of-university-of-music-and-performing-arts-vienna-private/
END:VEVENT
BEGIN:VEVENT
DTSTART;TZID=America/Los_Angeles:20241028T200000
DTEND;TZID=America/Los_Angeles:20241029T220000
DTSTAMP:20260422T145034
CREATED:20231202T194603Z
LAST-MODIFIED:20240304T230516Z
UID:5475-1730145600-1730239200@www.jenniferbatten.com
SUMMARY:Guesting with "Michael Jackson Tribute Live Experience" Vienna 2 nights
DESCRIPTION:
URL:https://www.jenniferbatten.com/event/guesting-with-michael-jackson-tribute-live-experience-austria-2-days/
LOCATION:Wien – Theater Akzent\, Theresianumgasse 18\,\, Wien\, 1040\, Austria
END:VEVENT
BEGIN:VEVENT
DTSTART;TZID=America/Los_Angeles:20241026T200000
DTEND;TZID=America/Los_Angeles:20241026T220000
DTSTAMP:20260422T145034
CREATED:20231202T193629Z
LAST-MODIFIED:20231202T194043Z
UID:5465-1729972800-1729980000@www.jenniferbatten.com
SUMMARY:Guesting with "Michael Jackson Tribute Live Experience" Austria
DESCRIPTION:
URL:https://www.jenniferbatten.com/event/guesting-with-michael-jackson-tribute-live-experience-austria-7/
LOCATION:Eisenstadt – Kongresszentrum\, Franz Schubert-Platz 6\,\, Eisenstadt\, 7000\, Austria
END:VEVENT
BEGIN:VEVENT
DTSTART;TZID=America/Los_Angeles:20241025T200000
DTEND;TZID=America/Los_Angeles:20241025T220000
DTSTAMP:20260422T145034
CREATED:20231202T194746Z
LAST-MODIFIED:20231202T194808Z
UID:5473-1729886400-1729893600@www.jenniferbatten.com
SUMMARY:Guesting with "Michael Jackson Tribute Live Experience" Austria
DESCRIPTION:
URL:https://www.jenniferbatten.com/event/guesting-with-michael-jackson-tribute-live-experience-austria-8/
LOCATION:Weiz – Kunsthaus\, Rathausgasse 3\,\, Weiz\, 8160\, Austria
END:VEVENT
BEGIN:VEVENT
DTSTART;TZID=America/Los_Angeles:20241023T200000
DTEND;TZID=America/Los_Angeles:20241023T220000
DTSTAMP:20260422T145034
CREATED:20231202T193412Z
LAST-MODIFIED:20231202T193412Z
UID:5461-1729713600-1729720800@www.jenniferbatten.com
SUMMARY:Guesting with "Michael Jackson Tribute Live Experience" Austria
DESCRIPTION:
URL:https://www.jenniferbatten.com/event/guesting-with-michael-jackson-tribute-live-experience-austria-6/
LOCATION:Klagenfurt – Messe\, Valentin-Leitgeb-Straße 1\,\, Klagenfurt am Wörthersee\, 9020\, Austria
END:VEVENT
BEGIN:VEVENT
DTSTART;TZID=America/Los_Angeles:20241022T200000
DTEND;TZID=America/Los_Angeles:20241022T220000
DTSTAMP:20260422T145034
CREATED:20231202T193203Z
LAST-MODIFIED:20231202T193203Z
UID:5457-1729627200-1729634400@www.jenniferbatten.com
SUMMARY:Guesting with "Michael Jackson Tribute Live Experience" Austria
DESCRIPTION:
URL:https://www.jenniferbatten.com/event/guesting-with-michael-jackson-tribute-live-experience-austria-5/
LOCATION:Wels – Stadthalle\, Pollheimerstraße 1\, Wels\, 4600\, Austria
END:VEVENT
BEGIN:VEVENT
DTSTART;TZID=America/Los_Angeles:20241020T200000
DTEND;TZID=America/Los_Angeles:20241020T220000
DTSTAMP:20260422T145034
CREATED:20231202T192944Z
LAST-MODIFIED:20231202T192944Z
UID:5453-1729454400-1729461600@www.jenniferbatten.com
SUMMARY:Guesting with "Michael Jackson Tribute Live Experience" Austria
DESCRIPTION:
URL:https://www.jenniferbatten.com/event/guesting-with-michael-jackson-tribute-live-experience-austria-4/
LOCATION:Graz Orpheum\, Orpheumgasse 8\, Graz\, 8020\, Austria
END:VEVENT
BEGIN:VEVENT
DTSTART;TZID=America/Los_Angeles:20241017T200000
DTEND;TZID=America/Los_Angeles:20241017T220000
DTSTAMP:20260422T145034
CREATED:20231202T192423Z
LAST-MODIFIED:20231202T192423Z
UID:5445-1729195200-1729202400@www.jenniferbatten.com
SUMMARY:Guesting with "Michael Jackson Tribute Live Experience" Austria
DESCRIPTION:
URL:https://www.jenniferbatten.com/event/guesting-with-michael-jackson-tribute-live-experience-austria-2/
LOCATION:Innsbruck – Kongress\, Rennweg 3\,\, Innsbruck\, 6020\, Austria
END:VEVENT
BEGIN:VEVENT
DTSTART;TZID=America/Los_Angeles:20241016T200000
DTEND;TZID=America/Los_Angeles:20241016T220000
DTSTAMP:20260422T145034
CREATED:20231202T192207Z
LAST-MODIFIED:20231202T192207Z
UID:5441-1729108800-1729116000@www.jenniferbatten.com
SUMMARY:Guesting with "Michael Jackson Tribute Live Experience" Austria
DESCRIPTION:
URL:https://www.jenniferbatten.com/event/guesting-with-michael-jackson-tribute-live-experience-austria/
LOCATION:Dornbirn – Kulturhaus\, Rathauspl. 1\,\, Dornbirn\, 6850\, Austria
END:VEVENT
BEGIN:VEVENT
DTSTART;TZID=America/Los_Angeles:20241012T200000
DTEND;TZID=America/Los_Angeles:20241012T220000
DTSTAMP:20260422T145034
CREATED:20240903T170247Z
LAST-MODIFIED:20240903T170247Z
UID:6020-1728763200-1728770400@www.jenniferbatten.com
SUMMARY:Guesting with "Black Sand" band
DESCRIPTION:
URL:https://www.jenniferbatten.com/event/guesting-with-black-sand-band/
LOCATION:Live Stage\, Andeechsstrasse 67a\, Innsbruch\, 6020\, Austria
END:VEVENT
BEGIN:VEVENT
DTSTART;TZID=America/Los_Angeles:20241010T150000
DTEND;TZID=America/Los_Angeles:20241010T180000
DTSTAMP:20260422T145034
CREATED:20240812T213805Z
LAST-MODIFIED:20240921T192205Z
UID:6009-1728572400-1728583200@www.jenniferbatten.com
SUMMARY:Music workshop Städtische Musikschule Innsbruck
DESCRIPTION:
URL:https://www.jenniferbatten.com/event/music-workshop-stadtische-musikschule-innsbruck/
LOCATION:Städtische Musikschule Innsbruck\, Innrain 5\, Innsbruck\, 6020\, Austria
END:VEVENT
BEGIN:VEVENT
DTSTART;TZID=America/Los_Angeles:20241009T190000
DTEND;TZID=America/Los_Angeles:20241009T213000
DTSTAMP:20260422T145034
CREATED:20240812T213511Z
LAST-MODIFIED:20240903T165626Z
UID:6005-1728500400-1728509400@www.jenniferbatten.com
SUMMARY:Solo multimedia show
DESCRIPTION:
URL:https://www.jenniferbatten.com/event/solo-multimedia-show-2/
LOCATION:Treibhaus\, Angerzellgasse 8\, Innsbruck\, 6020\, Austria
END:VEVENT
END:VCALENDAR