BEGIN:VCALENDAR
VERSION:2.0
PRODID:-//Jennifer Batten - ECPv6.15.13//NONSGML v1.0//EN
CALSCALE:GREGORIAN
METHOD:PUBLISH
X-WR-CALNAME:Jennifer Batten
X-ORIGINAL-URL:https://www.jenniferbatten.com
X-WR-CALDESC:Events for Jennifer Batten
REFRESH-INTERVAL;VALUE=DURATION:PT1H
X-Robots-Tag:noindex
X-PUBLISHED-TTL:PT1H
BEGIN:VTIMEZONE
TZID:America/Los_Angeles
BEGIN:DAYLIGHT
TZOFFSETFROM:-0800
TZOFFSETTO:-0700
TZNAME:PDT
DTSTART:20240310T100000
END:DAYLIGHT
BEGIN:STANDARD
TZOFFSETFROM:-0700
TZOFFSETTO:-0800
TZNAME:PST
DTSTART:20241103T090000
END:STANDARD
BEGIN:DAYLIGHT
TZOFFSETFROM:-0800
TZOFFSETTO:-0700
TZNAME:PDT
DTSTART:20250309T100000
END:DAYLIGHT
BEGIN:STANDARD
TZOFFSETFROM:-0700
TZOFFSETTO:-0800
TZNAME:PST
DTSTART:20251102T090000
END:STANDARD
BEGIN:DAYLIGHT
TZOFFSETFROM:-0800
TZOFFSETTO:-0700
TZNAME:PDT
DTSTART:20260308T100000
END:DAYLIGHT
BEGIN:STANDARD
TZOFFSETFROM:-0700
TZOFFSETTO:-0800
TZNAME:PST
DTSTART:20261101T090000
END:STANDARD
END:VTIMEZONE
BEGIN:VTIMEZONE
TZID:America/Santiago
BEGIN:STANDARD
TZOFFSETFROM:-0300
TZOFFSETTO:-0400
TZNAME:-04
DTSTART:20240407T030000
END:STANDARD
BEGIN:DAYLIGHT
TZOFFSETFROM:-0400
TZOFFSETTO:-0300
TZNAME:-03
DTSTART:20240908T040000
END:DAYLIGHT
BEGIN:STANDARD
TZOFFSETFROM:-0300
TZOFFSETTO:-0400
TZNAME:-04
DTSTART:20250406T030000
END:STANDARD
BEGIN:DAYLIGHT
TZOFFSETFROM:-0400
TZOFFSETTO:-0300
TZNAME:-03
DTSTART:20250907T040000
END:DAYLIGHT
BEGIN:STANDARD
TZOFFSETFROM:-0300
TZOFFSETTO:-0400
TZNAME:-04
DTSTART:20260405T030000
END:STANDARD
BEGIN:DAYLIGHT
TZOFFSETFROM:-0400
TZOFFSETTO:-0300
TZNAME:-03
DTSTART:20260906T040000
END:DAYLIGHT
END:VTIMEZONE
BEGIN:VEVENT
DTSTART;TZID=America/Los_Angeles:20251212T210000
DTEND;TZID=America/Los_Angeles:20251212T230000
DTSTAMP:20260422T144751
CREATED:20250204T174919Z
LAST-MODIFIED:20250826T170926Z
UID:6316-1765573200-1765580400@www.jenniferbatten.com
SUMMARY:Guesting with This Is Michael w Lenny Jay_Chile
DESCRIPTION:
URL:https://www.jenniferbatten.com/event/guesting-with-this-is-michael-w-lenny-jay-9/
LOCATION:Gran Arena Monticello\, Mostazal\, O'Higgins\, Monticello\, Chile
END:VEVENT
BEGIN:VEVENT
DTSTART;TZID=America/Los_Angeles:20251206T210000
DTEND;TZID=America/Los_Angeles:20251206T233000
DTSTAMP:20260422T144751
CREATED:20250725T172124Z
LAST-MODIFIED:20250725T172233Z
UID:6652-1765054800-1765063800@www.jenniferbatten.com
SUMMARY:Guesting with Legend The Show
DESCRIPTION:
URL:https://www.jenniferbatten.com/event/guesting-with-legend-the-show-2/
LOCATION:PlaUnical\, Via Melchiorre Gioia\, 3\, Mantova\, MN\, 46100\, Italy
END:VEVENT
BEGIN:VEVENT
DTSTART;TZID=America/Los_Angeles:20251204T210000
DTEND;TZID=America/Los_Angeles:20251205T233000
DTSTAMP:20260422T144751
CREATED:20250725T171512Z
LAST-MODIFIED:20250725T171512Z
UID:6647-1764882000-1764977400@www.jenniferbatten.com
SUMMARY:Guesting with Legend The Show 2 nights Dec 4+5
DESCRIPTION:
URL:https://www.jenniferbatten.com/event/guesting-with-legend-the-show-2-nights-dec-45/
LOCATION:Teatreo Nuovo\, Piazza Trento - Trieste\, n. 52\, Trieste\, Ferrara\, 44121\, Italy
END:VEVENT
BEGIN:VEVENT
DTSTART;TZID=America/Los_Angeles:20251203T210000
DTEND;TZID=America/Los_Angeles:20251203T233000
DTSTAMP:20260422T144751
CREATED:20250725T171022Z
LAST-MODIFIED:20250725T171022Z
UID:6642-1764795600-1764804600@www.jenniferbatten.com
SUMMARY:Guesting with Legend The Show
DESCRIPTION:
URL:https://www.jenniferbatten.com/event/guesting-with-legend-the-show/
LOCATION:Celebrazioni Theatre\, Via Saragozza\, 234\, Bologna\, BO\, 40135\, Italy
END:VEVENT
BEGIN:VEVENT
DTSTART;TZID=America/Los_Angeles:20251128T210000
DTEND;TZID=America/Los_Angeles:20251128T230000
DTSTAMP:20260422T144751
CREATED:20250108T192411Z
LAST-MODIFIED:20251130T144604Z
UID:6247-1764363600-1764370800@www.jenniferbatten.com
SUMMARY:Guesting with This Is Michael w Lenny Jay_Spain
DESCRIPTION:
URL:https://www.jenniferbatten.com/event/guesting-with-this-is-michael-w-lenny-jay_spain/
LOCATION:Palacio De Congresos De Zaragoza\, C/Eduardo Ibarra\, 3\, Zaragoza\, 50009\, Spain
END:VEVENT
BEGIN:VEVENT
DTSTART;TZID=America/Los_Angeles:20251127T210000
DTEND;TZID=America/Los_Angeles:20251127T230000
DTSTAMP:20260422T144751
CREATED:20250826T170215Z
LAST-MODIFIED:20250826T170234Z
UID:6719-1764277200-1764284400@www.jenniferbatten.com
SUMMARY:Guesting with This Is Michael w Lenny Jay_Spain
DESCRIPTION:
URL:https://www.jenniferbatten.com/event/guesting-with-this-is-michael-w-lenny-jay_spain-2/
LOCATION:Gijón Arena\, Av. de la Costa\, 1\, Gijon-Este\,\, Gijon-Este\,\, Gijón\, Asturias\, 33203\, Spain
END:VEVENT
BEGIN:VEVENT
DTSTART;TZID=America/Los_Angeles:20251123T210000
DTEND;TZID=America/Los_Angeles:20251123T230000
DTSTAMP:20260422T144751
CREATED:20250826T170009Z
LAST-MODIFIED:20250826T170009Z
UID:6715-1763931600-1763938800@www.jenniferbatten.com
SUMMARY:Guesting with This Is Michael w Lenny Jay_France
DESCRIPTION:
URL:https://www.jenniferbatten.com/event/guesting-with-this-is-michael-w-lenny-jay_france/
LOCATION:Salle Pleyel\, 252 Rue du Faubourg Saint-Honoré\, Paris\, 75008
END:VEVENT
BEGIN:VEVENT
DTSTART;TZID=America/Los_Angeles:20251121T210000
DTEND;TZID=America/Los_Angeles:20251121T233000
DTSTAMP:20260422T144751
CREATED:20250119T234730Z
LAST-MODIFIED:20250826T165720Z
UID:6304-1763758800-1763767800@www.jenniferbatten.com
SUMMARY:Guesting with This Is Michael w Lenny Jay_Spain
DESCRIPTION:
URL:https://www.jenniferbatten.com/event/guesting-with-this-is-michael-w-lenny-jay-8/
LOCATION:Palacio Vistalegre\, C. de Utebo\, 1\, Carabanchel\,\, Madrid\, Carabanchel\,\, 28025\, Spain
END:VEVENT
BEGIN:VEVENT
DTSTART;TZID=America/Los_Angeles:20251120T210000
DTEND;TZID=America/Los_Angeles:20251120T230000
DTSTAMP:20260422T144751
CREATED:20250826T165505Z
LAST-MODIFIED:20250826T165533Z
UID:6708-1763672400-1763679600@www.jenniferbatten.com
SUMMARY:Guesting with This Is Michael with Lenny Jay_Spain
DESCRIPTION:
URL:https://www.jenniferbatten.com/event/guesting-with-this-is-michael-with-lenny-jay_spain/
LOCATION:Trui Teatre\, Camí de Son Rapinya\, 29\,\, Ponent\, Palma\, Illes Balears\, 07013\, Spain
END:VEVENT
BEGIN:VEVENT
DTSTART;TZID=America/Los_Angeles:20251115T210000
DTEND;TZID=America/Los_Angeles:20251115T233000
DTSTAMP:20260422T144751
CREATED:20250602T214528Z
LAST-MODIFIED:20250826T165029Z
UID:6604-1763240400-1763249400@www.jenniferbatten.com
SUMMARY:Guesting with This Is Michael w Lenny Jay_Spain Mar Abierto Festival
DESCRIPTION:
URL:https://www.jenniferbatten.com/event/guesting-with-this-is-michael-w-lenny-jay-10/
LOCATION:Pabellon Santiago Martin\, Los Majuelos\, C. las Mercedes\, s/n\,\, Santa Cruz de Tenerife\, La Laguna\, 38108\, Spain
END:VEVENT
BEGIN:VEVENT
DTSTART;TZID=America/Los_Angeles:20251107T210000
DTEND;TZID=America/Los_Angeles:20251107T233000
DTSTAMP:20260422T144751
CREATED:20250108T191539Z
LAST-MODIFIED:20250826T164656Z
UID:6240-1762549200-1762558200@www.jenniferbatten.com
SUMMARY:Guesting with This Is Michael w Lenny Jay_Mexico
DESCRIPTION:
URL:https://www.jenniferbatten.com/event/guesting-with-this-is-michael-w-lenny-jay_mexico-2/
LOCATION:Auditorio Explanada\, Autopista México - Pachuca 6201\, San Antonio el Desmonte\,\, Puebla\, Pachuca de Soto\, Hgo.\,\, 42083\, Mexico
END:VEVENT
BEGIN:VEVENT
DTSTART;TZID=America/Los_Angeles:20251106T210000
DTEND;TZID=America/Los_Angeles:20251106T230000
DTSTAMP:20260422T144751
CREATED:20250826T164306Z
LAST-MODIFIED:20250826T171653Z
UID:6697-1762462800-1762470000@www.jenniferbatten.com
SUMMARY:Guesting with This Is Michael with Lenny Jay_Mexico
DESCRIPTION:
URL:https://www.jenniferbatten.com/event/guesting-with-this-is-micahel-with-lenny-jay_mexico/
LOCATION:Teatro Manuel\, esquina con\, Pedro Moreno\, Hermanos Aldama\, Centro Histórico\,\, León\, León de los Aldama\, Gto\, 37000\, Mexico
END:VEVENT
BEGIN:VEVENT
DTSTART;TZID=America/Los_Angeles:20251105T210000
DTEND;TZID=America/Los_Angeles:20251105T230000
DTSTAMP:20260422T144751
CREATED:20250826T164013Z
LAST-MODIFIED:20250826T164057Z
UID:6692-1762376400-1762383600@www.jenniferbatten.com
SUMMARY:Guesting with This Is Micahel with Lenny Jay_Mexico
DESCRIPTION:
URL:https://www.jenniferbatten.com/event/guesting-with-this-is-micahel-with-lenny-jay_mezxico/
LOCATION:Teatro Morelos\, Calle\, Aquiles Serdán s/n\, Centro\, Toluca de Lerdo\, 50000\, Mexico
END:VEVENT
BEGIN:VEVENT
DTSTART;TZID=America/Santiago:20251101T210000
DTEND;TZID=America/Santiago:20251101T233000
DTSTAMP:20260422T144751
CREATED:20250108T191332Z
LAST-MODIFIED:20250826T163508Z
UID:6233-1762030800-1762039800@www.jenniferbatten.com
SUMMARY:Guesting with This Is Michael w Lenny Jay_Mexico
DESCRIPTION:https://siramusica.com/site/eventos/
URL:https://www.jenniferbatten.com/event/guesting-with-this-is-michael-w-lenny-jay-6/
LOCATION:Teatro Metropolitano\, Paseo de las Artes 1531\, Centro Sur\, Querétaro\, Santiago de Querétaro\, Qro.\,\, 76238\, Mexico
END:VEVENT
BEGIN:VEVENT
DTSTART;TZID=America/Los_Angeles:20251028T193000
DTEND;TZID=America/Los_Angeles:20251028T220000
DTSTAMP:20260422T144751
CREATED:20250519T164403Z
LAST-MODIFIED:20250519T165321Z
UID:6597-1761679800-1761688800@www.jenniferbatten.com
SUMMARY:Guesting with the King of Pop Show UK
DESCRIPTION:
URL:https://www.jenniferbatten.com/event/guesting-with-the-king-of-pop-show-uk-8/
LOCATION:Whitley Bay Playhouse\, Marine Ave\,\, Whitley Bay\, NE26 1LZ\, United Kingdom
END:VEVENT
BEGIN:VEVENT
DTSTART;TZID=America/Los_Angeles:20251026T193000
DTEND;TZID=America/Los_Angeles:20251026T220000
DTSTAMP:20260422T144751
CREATED:20250519T163547Z
LAST-MODIFIED:20250519T163547Z
UID:6584-1761507000-1761516000@www.jenniferbatten.com
SUMMARY:Guesting with the King of Pop Show UK
DESCRIPTION:
URL:https://www.jenniferbatten.com/event/guesting-with-the-king-of-pop-show-uk-5/
LOCATION:Mechanics Theatre\, Manchester Rd\, Burnley\, BB11 1BH\, United Kingdom
END:VEVENT
BEGIN:VEVENT
DTSTART;TZID=America/Los_Angeles:20251025T193000
DTEND;TZID=America/Los_Angeles:20251025T220000
DTSTAMP:20260422T144751
CREATED:20250519T163417Z
LAST-MODIFIED:20250519T163417Z
UID:6581-1761420600-1761429600@www.jenniferbatten.com
SUMMARY:Guesting with the King of Pop Show UK
DESCRIPTION:
URL:https://www.jenniferbatten.com/event/guesting-with-the-king-of-pop-show-uk-4/
LOCATION:The Robin\, 26-28 Mount Pleasant\, Bilston\, Wolverhampton\,\, Bilston\, WV14 7LJ\, United Kingdom
END:VEVENT
BEGIN:VEVENT
DTSTART;TZID=America/Los_Angeles:20251023T193000
DTEND;TZID=America/Los_Angeles:20251023T220000
DTSTAMP:20260422T144751
CREATED:20250519T163318Z
LAST-MODIFIED:20250519T163318Z
UID:6578-1761247800-1761256800@www.jenniferbatten.com
SUMMARY:Guesting with the King of Pop Show UK
DESCRIPTION:
URL:https://www.jenniferbatten.com/event/guesting-with-the-king-of-pop-show-uk-3/
LOCATION:Brentwood Center\, Doddinghurst Rd\,\, Pilgrims Hatch\, Brentwood\, CM15 9NN\, United Kingdom
END:VEVENT
BEGIN:VEVENT
DTSTART;TZID=America/Los_Angeles:20251018T193000
DTEND;TZID=America/Los_Angeles:20251018T220000
DTSTAMP:20260422T144751
CREATED:20241002T163804Z
LAST-MODIFIED:20250519T163154Z
UID:6195-1760815800-1760824800@www.jenniferbatten.com
SUMMARY:Guesting with the King Of Pop show UK
DESCRIPTION:
URL:https://www.jenniferbatten.com/event/guesting-with-the-king-of-pop-show-featuring-navi-14/
LOCATION:Joe Longhorn Theatre\, North Pier\, Blackpool\, FY1 1NE\, United Kingdom
END:VEVENT
BEGIN:VEVENT
DTSTART;TZID=America/Los_Angeles:20251017T193000
DTEND;TZID=America/Los_Angeles:20251017T220000
DTSTAMP:20260422T144751
CREATED:20250519T163909Z
LAST-MODIFIED:20250519T163909Z
UID:6590-1760729400-1760738400@www.jenniferbatten.com
SUMMARY:Guesting with the King of Pop Show UK
DESCRIPTION:
URL:https://www.jenniferbatten.com/event/guesting-with-the-king-of-pop-show-uk-7/
LOCATION:The Dome Doncaster\, Doncaster Lakeside\, Bawtry Rd\, Doncaster\, DN4 7PD\, United Kingdom
END:VEVENT
BEGIN:VEVENT
DTSTART;TZID=America/Los_Angeles:20251016T193000
DTEND;TZID=America/Los_Angeles:20251016T220000
DTSTAMP:20260422T144751
CREATED:20250519T162908Z
LAST-MODIFIED:20250519T162908Z
UID:6570-1760643000-1760652000@www.jenniferbatten.com
SUMMARY:Guesting with the King of Pop Show UK
DESCRIPTION:
URL:https://www.jenniferbatten.com/event/guesting-with-the-king-of-pop-show-uk/
LOCATION:Billingham Forum\, Town Centre\, The Causeway\, Stockton-on-Tees\, Billingham\, TS23 2LJ\, United Kingdom
END:VEVENT
BEGIN:VEVENT
DTSTART;TZID=America/Los_Angeles:20251012T210000
DTEND;TZID=America/Los_Angeles:20251012T233000
DTSTAMP:20260422T144751
CREATED:20250507T225552Z
LAST-MODIFIED:20250507T231928Z
UID:6544-1760302800-1760311800@www.jenniferbatten.com
SUMMARY:Guesting with This Is Michael with Lenny Jay_Argentina
DESCRIPTION:
URL:https://www.jenniferbatten.com/event/guesting-with-this-is-michael-with-lenny-jay_argentina-4/
LOCATION:Guesting with This Is Michael with Lenny Jay_Argentina\, Quality Space Argentine Red Cross 200\, Córdoba\, x5000\, Argentina
END:VEVENT
BEGIN:VEVENT
DTSTART;TZID=America/Los_Angeles:20251010T210000
DTEND;TZID=America/Los_Angeles:20251010T233000
DTSTAMP:20260422T144751
CREATED:20250822T173151Z
LAST-MODIFIED:20250826T162723Z
UID:6667-1760130000-1760139000@www.jenniferbatten.com
SUMMARY:Guesting with This Is Michael with Lenny Jay_Argentina
DESCRIPTION:
URL:https://www.jenniferbatten.com/event/guesting-with-this-is-michael-with-lenny-jay_rosario/
LOCATION:El Circulo Theatre\, Laprida 1223\, Rosario\, Santa Fe\, 1235\, Argentina
END:VEVENT
BEGIN:VEVENT
DTSTART;TZID=America/Los_Angeles:20251005T210000
DTEND;TZID=America/Los_Angeles:20251005T233000
DTSTAMP:20260422T144751
CREATED:20250507T175253Z
LAST-MODIFIED:20250826T162639Z
UID:6516-1759698000-1759707000@www.jenniferbatten.com
SUMMARY:Guesting with This Is Michael with Lenny Jay_Chile
DESCRIPTION:
URL:https://www.jenniferbatten.com/event/guesting-with-this-is-michael-with-lenny-jay_chile/
LOCATION:Caupolican Theatre\, San Diego 850\,\, Santiago Región Metropolitana\, 8330840\, Chile
END:VEVENT
BEGIN:VEVENT
DTSTART;TZID=America/Los_Angeles:20251004T210000
DTEND;TZID=America/Los_Angeles:20251004T233000
DTSTAMP:20260422T144751
CREATED:20250507T174411Z
LAST-MODIFIED:20250826T162532Z
UID:6512-1759611600-1759620600@www.jenniferbatten.com
SUMMARY:Guesting with This Is Michael with Lenny Jay_Argentina
DESCRIPTION:
URL:https://www.jenniferbatten.com/event/guesting-with-this-is-michael-with-lenny-jay/
LOCATION:Teatro Gran Rex\, Av. Corrientes 857\,\, Buenos Aires\, Cdad. Autónoma de \,\, C1043AAI\, Argentina
END:VEVENT
BEGIN:VEVENT
DTSTART;TZID=America/Los_Angeles:20250927T200000
DTEND;TZID=America/Los_Angeles:20250927T220000
DTSTAMP:20260422T144751
CREATED:20250308T105113Z
LAST-MODIFIED:20250308T105145Z
UID:6387-1759003200-1759010400@www.jenniferbatten.com
SUMMARY:One Night of MJ
DESCRIPTION:
URL:https://www.jenniferbatten.com/event/one-night-of-mj-6/
LOCATION:Stadthalle Tuttlingen\, Königstraße 39\,\, Tuttlingen\, 78532\, Germany
END:VEVENT
BEGIN:VEVENT
DTSTART;TZID=America/Los_Angeles:20250924T193000
DTEND;TZID=America/Los_Angeles:20250924T220000
DTSTAMP:20260422T144751
CREATED:20250829T015424Z
LAST-MODIFIED:20250829T015424Z
UID:6757-1758742200-1758751200@www.jenniferbatten.com
SUMMARY:One Night of MJ
DESCRIPTION:
URL:https://www.jenniferbatten.com/event/one-night-of-mj-15/
LOCATION:Stadthalle Northeim\, Medenheimer Straße 4\,\, Northeim\, 37154\, Germany
END:VEVENT
BEGIN:VEVENT
DTSTART;TZID=America/Los_Angeles:20250923T193000
DTEND;TZID=America/Los_Angeles:20250923T213000
DTSTAMP:20260422T144751
CREATED:20250308T104734Z
LAST-MODIFIED:20250308T104734Z
UID:6383-1758655800-1758663000@www.jenniferbatten.com
SUMMARY:One Night of MJ
DESCRIPTION:
URL:https://www.jenniferbatten.com/event/one-night-of-mj-5/
LOCATION:Theater Itzehoe\, Theodor-Heuss-Platz 1\,\, 4 Itzehoe\, 2552\, Germany
END:VEVENT
BEGIN:VEVENT
DTSTART;TZID=America/Los_Angeles:20250921T193000
DTEND;TZID=America/Los_Angeles:20250921T230000
DTSTAMP:20260422T144751
CREATED:20250412T230415Z
LAST-MODIFIED:20250412T230538Z
UID:6471-1758483000-1758495600@www.jenniferbatten.com
SUMMARY:One Night of MJ
DESCRIPTION:
URL:https://www.jenniferbatten.com/event/one-night-of-mj-8/
LOCATION:Messe+Congress Centrum Halle Münsterland\, Albersloher Weg 32\, Münster\, 48155\, Germany
END:VEVENT
BEGIN:VEVENT
DTSTART;TZID=America/Los_Angeles:20250920T200000
DTEND;TZID=America/Los_Angeles:20250920T220000
DTSTAMP:20260422T144751
CREATED:20250308T104524Z
LAST-MODIFIED:20250308T104545Z
UID:6379-1758398400-1758405600@www.jenniferbatten.com
SUMMARY:One Night of MJ
DESCRIPTION:
URL:https://www.jenniferbatten.com/event/one-night-of-mj-4/
LOCATION:Phoenix Contact Arena\, Bunsenstraße 39\,\, Lemgo\, 32657\, Germany
END:VEVENT
END:VCALENDAR