BEGIN:VCALENDAR
VERSION:2.0
PRODID:-//Jennifer Batten - ECPv6.15.13//NONSGML v1.0//EN
CALSCALE:GREGORIAN
METHOD:PUBLISH
X-WR-CALNAME:Jennifer Batten
X-ORIGINAL-URL:https://www.jenniferbatten.com
X-WR-CALDESC:Events for Jennifer Batten
REFRESH-INTERVAL;VALUE=DURATION:PT1H
X-Robots-Tag:noindex
X-PUBLISHED-TTL:PT1H
BEGIN:VTIMEZONE
TZID:America/Los_Angeles
BEGIN:DAYLIGHT
TZOFFSETFROM:-0800
TZOFFSETTO:-0700
TZNAME:PDT
DTSTART:20250309T100000
END:DAYLIGHT
BEGIN:STANDARD
TZOFFSETFROM:-0700
TZOFFSETTO:-0800
TZNAME:PST
DTSTART:20251102T090000
END:STANDARD
BEGIN:DAYLIGHT
TZOFFSETFROM:-0800
TZOFFSETTO:-0700
TZNAME:PDT
DTSTART:20260308T100000
END:DAYLIGHT
BEGIN:STANDARD
TZOFFSETFROM:-0700
TZOFFSETTO:-0800
TZNAME:PST
DTSTART:20261101T090000
END:STANDARD
BEGIN:DAYLIGHT
TZOFFSETFROM:-0800
TZOFFSETTO:-0700
TZNAME:PDT
DTSTART:20270314T100000
END:DAYLIGHT
BEGIN:STANDARD
TZOFFSETFROM:-0700
TZOFFSETTO:-0800
TZNAME:PST
DTSTART:20271107T090000
END:STANDARD
END:VTIMEZONE
BEGIN:VEVENT
DTSTART;TZID=America/Los_Angeles:20260807T183000
DTEND;TZID=America/Los_Angeles:20260807T203000
DTSTAMP:20260421T201638
CREATED:20260330T105119Z
LAST-MODIFIED:20260330T105149Z
UID:7117-1786127400-1786134600@www.jenniferbatten.com
SUMMARY:JB & Full Steam Summer Series_Tualatin
DESCRIPTION:
URL:https://www.jenniferbatten.com/event/jb-full-steam-summer-series_tualatin/
LOCATION:Tualatin Community Park\, Tualatin Community Park\, 8515 SW Tualatin Road\,\, Tualatin\, OR\, 97062\, United States
END:VEVENT
END:VCALENDAR