BEGIN:VCALENDAR
VERSION:2.0
PRODID:-//Jennifer Batten - ECPv6.15.13//NONSGML v1.0//EN
CALSCALE:GREGORIAN
METHOD:PUBLISH
X-ORIGINAL-URL:https://www.jenniferbatten.com
X-WR-CALDESC:Events for Jennifer Batten
REFRESH-INTERVAL;VALUE=DURATION:PT1H
X-Robots-Tag:noindex
X-PUBLISHED-TTL:PT1H
BEGIN:VTIMEZONE
TZID:America/Los_Angeles
BEGIN:DAYLIGHT
TZOFFSETFROM:-0800
TZOFFSETTO:-0700
TZNAME:PDT
DTSTART:20250309T100000
END:DAYLIGHT
BEGIN:STANDARD
TZOFFSETFROM:-0700
TZOFFSETTO:-0800
TZNAME:PST
DTSTART:20251102T090000
END:STANDARD
BEGIN:DAYLIGHT
TZOFFSETFROM:-0800
TZOFFSETTO:-0700
TZNAME:PDT
DTSTART:20260308T100000
END:DAYLIGHT
BEGIN:STANDARD
TZOFFSETFROM:-0700
TZOFFSETTO:-0800
TZNAME:PST
DTSTART:20261101T090000
END:STANDARD
BEGIN:DAYLIGHT
TZOFFSETFROM:-0800
TZOFFSETTO:-0700
TZNAME:PDT
DTSTART:20270314T100000
END:DAYLIGHT
BEGIN:STANDARD
TZOFFSETFROM:-0700
TZOFFSETTO:-0800
TZNAME:PST
DTSTART:20271107T090000
END:STANDARD
END:VTIMEZONE
BEGIN:VEVENT
DTSTART;TZID=America/Los_Angeles:20260412T190000
DTEND;TZID=America/Los_Angeles:20260412T213000
DTSTAMP:20260421T132039
CREATED:20251230T181302Z
LAST-MODIFIED:20251230T181315Z
UID:6965-1776020400-1776029400@www.jenniferbatten.com
SUMMARY:Guesting with King of Pop UK
DESCRIPTION:
URL:https://www.jenniferbatten.com/event/guesting-with-king-of-pop-uk-9/
LOCATION:The Platform\, Old Station Buildings\, \, Marine Road West\,\, Morecambe\, LA4 4DB\, United Kingdom
END:VEVENT
END:VCALENDAR